BEGIN:VCALENDAR
VERSION:2.0
PRODID:-//NADI Felda Jengka 3 - ECPv6.15.13.1//NONSGML v1.0//EN
CALSCALE:GREGORIAN
METHOD:PUBLISH
X-WR-CALNAME:NADI Felda Jengka 3
X-ORIGINAL-URL:https://feldajengka3.nadi.my
X-WR-CALDESC:Events for NADI Felda Jengka 3
REFRESH-INTERVAL;VALUE=DURATION:PT1H
X-Robots-Tag:noindex
X-PUBLISHED-TTL:PT1H
BEGIN:VTIMEZONE
TZID:UTC
BEGIN:STANDARD
TZOFFSETFROM:+0000
TZOFFSETTO:+0000
TZNAME:UTC
DTSTART:20230101T000000
END:STANDARD
END:VTIMEZONE
BEGIN:VEVENT
DTSTART;TZID=UTC:20241201T093000
DTEND;TZID=UTC:20241231T170000
DTSTAMP:20260420T010426
CREATED:20241222T204421Z
LAST-MODIFIED:20241222T204421Z
UID:6001-1733045400-1735664400@feldajengka3.nadi.my
SUMMARY:NADI X MAHIR
DESCRIPTION:MAHIR FOTO – Kursus pengambilan gambar dan video menggunakan telefon bimbit/hp serta mencipta kandungan – content creation \nMAHIR MASAK – Pelajari teknik masakan (menumpukan bahagian gaya hidup café \nMAHIR BAIKI GAJET – Bahagian membaiki telefon bimbit dan komputer riba/laptop
URL:https://feldajengka3.nadi.my/event/nadi-x-mahir/
END:VEVENT
BEGIN:VEVENT
DTSTART;TZID=UTC:20241201T100000
DTEND;TZID=UTC:20241231T170000
DTSTAMP:20260420T010426
CREATED:20241222T204038Z
LAST-MODIFIED:20241222T204038Z
UID:5999-1733047200-1735664400@feldajengka3.nadi.my
SUMMARY:NADI X AWARENESS
DESCRIPTION:Promosi – Hebahan Perkhidmatan\, Program\, Aktiviti\, Kelas/Latihan \nKDB – Dedah Membawa Padah \nKDB – Penyalahgunaan Dalam Media Sosial \nKDB – Taktik-taktik Penipuan Dalam Talian \nKDB – Keselamatan Siber
URL:https://feldajengka3.nadi.my/event/nadi-x-awareness/
END:VEVENT
BEGIN:VEVENT
DTSTART;TZID=UTC:20241221T100000
DTEND;TZID=UTC:20241229T120000
DTSTAMP:20260420T010426
CREATED:20241219T200525Z
LAST-MODIFIED:20241222T202921Z
UID:5926-1734775200-1735473600@feldajengka3.nadi.my
SUMMARY:PROGRAM CUTI SEKOLAH
DESCRIPTION:– Kelas Komputer (Ms Word\, Publisher & Powerpoint) \n– Kelas ICT – pengenalan komputer & internet\n– E-learning (Word Search online\, Puzzle online\, Quizizz)\n\n– Aplikasi Pembelajaran\, Permainan Pembelajaran  \n-Tutoriol\, Kuiz
URL:https://feldajengka3.nadi.my/event/program-cuti-sekolah-20/
LOCATION:NADI Felda Jengka 3\, NADI Felda Jengka 3
END:VEVENT
END:VCALENDAR