BEGIN:VCALENDAR
VERSION:2.0
PRODID:-//NADI Felda Jengka 3 - ECPv6.15.13.1//NONSGML v1.0//EN
CALSCALE:GREGORIAN
METHOD:PUBLISH
X-WR-CALNAME:NADI Felda Jengka 3
X-ORIGINAL-URL:https://feldajengka3.nadi.my
X-WR-CALDESC:Events for NADI Felda Jengka 3
REFRESH-INTERVAL;VALUE=DURATION:PT1H
X-Robots-Tag:noindex
X-PUBLISHED-TTL:PT1H
BEGIN:VTIMEZONE
TZID:UTC
BEGIN:STANDARD
TZOFFSETFROM:+0000
TZOFFSETTO:+0000
TZNAME:UTC
DTSTART:20230101T000000
END:STANDARD
END:VTIMEZONE
BEGIN:VEVENT
DTSTART;TZID=UTC:20240503T100000
DTEND;TZID=UTC:20240503T120000
DTSTAMP:20260424T060040
CREATED:20240502T230110Z
LAST-MODIFIED:20240502T230110Z
UID:5739-1714730400-1714737600@feldajengka3.nadi.my
SUMMARY:Kelas ICT - Kategori 18 tahun ke atas
DESCRIPTION:–  Promosi NADI \n– Klik dengan Bijak (Penipuan dalam Talian) \n– Latihan Keusahawanan- Perniagaan Secara Online (Shopee)
URL:https://feldajengka3.nadi.my/event/kelas-ict-kategori-18-tahun-ke-atas-301/
LOCATION:NADI Felda Jengka 3\, NADI Felda Jengka 3
CATEGORIES:DEFAULT
END:VEVENT
BEGIN:VEVENT
DTSTART;TZID=UTC:20240504T100000
DTEND;TZID=UTC:20240504T120000
DTSTAMP:20260424T060040
CREATED:20240502T231119Z
LAST-MODIFIED:20240502T231119Z
UID:5744-1714816800-1714824000@feldajengka3.nadi.my
SUMMARY:Kelas ICT - Kategori SK
DESCRIPTION:– Promosi NADI \n– Klik dengan Bijak (Keselamatan Internet)  \n– Kelas Komputer (Ms Word & Powerpoint) \n– e-Tuisyen Tahun 1\,2\,3\,4\,5 & 6 \n– Aktiviti STEM (Tayangan Video & Praktikal) \n· E-Learning (Quizizz\, tutor.com dll)
URL:https://feldajengka3.nadi.my/event/kelas-ict-kategori-sk-182/
LOCATION:NADI Felda Jengka 3\, NADI Felda Jengka 3
CATEGORIES:DEFAULT
END:VEVENT
BEGIN:VEVENT
DTSTART;TZID=UTC:20240505T100000
DTEND;TZID=UTC:20240505T120000
DTSTAMP:20260424T060040
CREATED:20240502T231309Z
LAST-MODIFIED:20240502T231309Z
UID:5748-1714903200-1714910400@feldajengka3.nadi.my
SUMMARY:Kelas ICT - Kategori SMK
DESCRIPTION:· Promosi NADI \n– Klik dengan Bijak (KETAGIH GAJET POSITIF ATAU NEGATIF) \n– E-learning (Quizizz) \n· Kelas Komputer (Ms Word & Publisher) \n–Aktiviti STEM (Tayangan Video & Praktikal)
URL:https://feldajengka3.nadi.my/event/kelas-ict-kategori-smk-188/
LOCATION:NADI Felda Jengka 3\, NADI Felda Jengka 3
CATEGORIES:DEFAULT
END:VEVENT
BEGIN:VEVENT
DTSTART;TZID=UTC:20240507T100000
DTEND;TZID=UTC:20240507T120000
DTSTAMP:20260424T060040
CREATED:20240502T232048Z
LAST-MODIFIED:20240502T232048Z
UID:5752-1715076000-1715083200@feldajengka3.nadi.my
SUMMARY:Kelas ICT - Kategori 18 tahun ke atas
DESCRIPTION:· Promosi NADI \n – Klik dengan Bijak (Keselamatan Negara Tanggungjawab Bersama)  \n· Latihan Keusahawanan (Pemasaran Dalam Talian)
URL:https://feldajengka3.nadi.my/event/kelas-ict-kategori-18-tahun-ke-atas-306/
LOCATION:NADI Felda Jengka 3\, NADI Felda Jengka 3
CATEGORIES:DEFAULT
END:VEVENT
BEGIN:VEVENT
DTSTART;TZID=UTC:20240508T100000
DTEND;TZID=UTC:20240508T120000
DTSTAMP:20260424T060040
CREATED:20240502T225459Z
LAST-MODIFIED:20240502T225459Z
UID:5735-1715162400-1715169600@feldajengka3.nadi.my
SUMMARY:Kelas ICT Kategori Usahawan
DESCRIPTION:· Promosi NADI \n· Klik dengan Bijak (Maklumat Palsu) \n· Latihan Keusahawanan (Perniagaan Dalam Talian)
URL:https://feldajengka3.nadi.my/event/kelas-ict-kategori-usahawan-246/
LOCATION:NADI Felda Jengka 3\, NADI Felda Jengka 3
CATEGORIES:DEFAULT
END:VEVENT
BEGIN:VEVENT
DTSTART;TZID=UTC:20240510T100000
DTEND;TZID=UTC:20240510T120000
DTSTAMP:20260424T060040
CREATED:20240502T230110Z
LAST-MODIFIED:20240502T230110Z
UID:5740-1715335200-1715342400@feldajengka3.nadi.my
SUMMARY:Kelas ICT - Kategori 18 tahun ke atas
DESCRIPTION:–  Promosi NADI \n– Klik dengan Bijak (Penipuan dalam Talian) \n– Latihan Keusahawanan- Perniagaan Secara Online (Shopee)
URL:https://feldajengka3.nadi.my/event/kelas-ict-kategori-18-tahun-ke-atas-302/
LOCATION:NADI Felda Jengka 3\, NADI Felda Jengka 3
CATEGORIES:DEFAULT
END:VEVENT
BEGIN:VEVENT
DTSTART;TZID=UTC:20240511T100000
DTEND;TZID=UTC:20240511T120000
DTSTAMP:20260424T060040
CREATED:20240502T231119Z
LAST-MODIFIED:20240502T231119Z
UID:5745-1715421600-1715428800@feldajengka3.nadi.my
SUMMARY:Kelas ICT - Kategori SK
DESCRIPTION:– Promosi NADI \n– Klik dengan Bijak (Keselamatan Internet)  \n– Kelas Komputer (Ms Word & Powerpoint) \n– e-Tuisyen Tahun 1\,2\,3\,4\,5 & 6 \n– Aktiviti STEM (Tayangan Video & Praktikal) \n· E-Learning (Quizizz\, tutor.com dll)
URL:https://feldajengka3.nadi.my/event/kelas-ict-kategori-sk-183/
LOCATION:NADI Felda Jengka 3\, NADI Felda Jengka 3
CATEGORIES:DEFAULT
END:VEVENT
BEGIN:VEVENT
DTSTART;TZID=UTC:20240512T100000
DTEND;TZID=UTC:20240512T120000
DTSTAMP:20260424T060040
CREATED:20240502T231309Z
LAST-MODIFIED:20240502T231309Z
UID:5749-1715508000-1715515200@feldajengka3.nadi.my
SUMMARY:Kelas ICT - Kategori SMK
DESCRIPTION:· Promosi NADI \n– Klik dengan Bijak (KETAGIH GAJET POSITIF ATAU NEGATIF) \n– E-learning (Quizizz) \n· Kelas Komputer (Ms Word & Publisher) \n–Aktiviti STEM (Tayangan Video & Praktikal)
URL:https://feldajengka3.nadi.my/event/kelas-ict-kategori-smk-189/
LOCATION:NADI Felda Jengka 3\, NADI Felda Jengka 3
CATEGORIES:DEFAULT
END:VEVENT
BEGIN:VEVENT
DTSTART;TZID=UTC:20240514T100000
DTEND;TZID=UTC:20240514T120000
DTSTAMP:20260424T060040
CREATED:20240502T232048Z
LAST-MODIFIED:20240502T232048Z
UID:5753-1715680800-1715688000@feldajengka3.nadi.my
SUMMARY:Kelas ICT - Kategori 18 tahun ke atas
DESCRIPTION:· Promosi NADI \n – Klik dengan Bijak (Keselamatan Negara Tanggungjawab Bersama)  \n· Latihan Keusahawanan (Pemasaran Dalam Talian)
URL:https://feldajengka3.nadi.my/event/kelas-ict-kategori-18-tahun-ke-atas-307/
LOCATION:NADI Felda Jengka 3\, NADI Felda Jengka 3
CATEGORIES:DEFAULT
END:VEVENT
BEGIN:VEVENT
DTSTART;TZID=UTC:20240515T100000
DTEND;TZID=UTC:20240515T120000
DTSTAMP:20260424T060040
CREATED:20240502T225459Z
LAST-MODIFIED:20240502T225459Z
UID:5736-1715767200-1715774400@feldajengka3.nadi.my
SUMMARY:Kelas ICT Kategori Usahawan
DESCRIPTION:· Promosi NADI \n· Klik dengan Bijak (Maklumat Palsu) \n· Latihan Keusahawanan (Perniagaan Dalam Talian)
URL:https://feldajengka3.nadi.my/event/kelas-ict-kategori-usahawan-247/
LOCATION:NADI Felda Jengka 3\, NADI Felda Jengka 3
CATEGORIES:DEFAULT
END:VEVENT
BEGIN:VEVENT
DTSTART;TZID=UTC:20240517T100000
DTEND;TZID=UTC:20240517T120000
DTSTAMP:20260424T060040
CREATED:20240502T230110Z
LAST-MODIFIED:20240502T230110Z
UID:5741-1715940000-1715947200@feldajengka3.nadi.my
SUMMARY:Kelas ICT - Kategori 18 tahun ke atas
DESCRIPTION:–  Promosi NADI \n– Klik dengan Bijak (Penipuan dalam Talian) \n– Latihan Keusahawanan- Perniagaan Secara Online (Shopee)
URL:https://feldajengka3.nadi.my/event/kelas-ict-kategori-18-tahun-ke-atas-303/
LOCATION:NADI Felda Jengka 3\, NADI Felda Jengka 3
CATEGORIES:DEFAULT
END:VEVENT
BEGIN:VEVENT
DTSTART;TZID=UTC:20240518T100000
DTEND;TZID=UTC:20240518T120000
DTSTAMP:20260424T060040
CREATED:20240502T231119Z
LAST-MODIFIED:20240502T231119Z
UID:5746-1716026400-1716033600@feldajengka3.nadi.my
SUMMARY:Kelas ICT - Kategori SK
DESCRIPTION:– Promosi NADI \n– Klik dengan Bijak (Keselamatan Internet)  \n– Kelas Komputer (Ms Word & Powerpoint) \n– e-Tuisyen Tahun 1\,2\,3\,4\,5 & 6 \n– Aktiviti STEM (Tayangan Video & Praktikal) \n· E-Learning (Quizizz\, tutor.com dll)
URL:https://feldajengka3.nadi.my/event/kelas-ict-kategori-sk-184/
LOCATION:NADI Felda Jengka 3\, NADI Felda Jengka 3
CATEGORIES:DEFAULT
END:VEVENT
BEGIN:VEVENT
DTSTART;TZID=UTC:20240519T100000
DTEND;TZID=UTC:20240519T120000
DTSTAMP:20260424T060040
CREATED:20240502T231309Z
LAST-MODIFIED:20240502T231309Z
UID:5750-1716112800-1716120000@feldajengka3.nadi.my
SUMMARY:Kelas ICT - Kategori SMK
DESCRIPTION:· Promosi NADI \n– Klik dengan Bijak (KETAGIH GAJET POSITIF ATAU NEGATIF) \n– E-learning (Quizizz) \n· Kelas Komputer (Ms Word & Publisher) \n–Aktiviti STEM (Tayangan Video & Praktikal)
URL:https://feldajengka3.nadi.my/event/kelas-ict-kategori-smk-190/
LOCATION:NADI Felda Jengka 3\, NADI Felda Jengka 3
CATEGORIES:DEFAULT
END:VEVENT
BEGIN:VEVENT
DTSTART;TZID=UTC:20240521T100000
DTEND;TZID=UTC:20240521T120000
DTSTAMP:20260424T060040
CREATED:20240502T232048Z
LAST-MODIFIED:20240502T232048Z
UID:5754-1716285600-1716292800@feldajengka3.nadi.my
SUMMARY:Kelas ICT - Kategori 18 tahun ke atas
DESCRIPTION:· Promosi NADI \n – Klik dengan Bijak (Keselamatan Negara Tanggungjawab Bersama)  \n· Latihan Keusahawanan (Pemasaran Dalam Talian)
URL:https://feldajengka3.nadi.my/event/kelas-ict-kategori-18-tahun-ke-atas-308/
LOCATION:NADI Felda Jengka 3\, NADI Felda Jengka 3
CATEGORIES:DEFAULT
END:VEVENT
BEGIN:VEVENT
DTSTART;TZID=UTC:20240522T100000
DTEND;TZID=UTC:20240522T120000
DTSTAMP:20260424T060040
CREATED:20240502T225459Z
LAST-MODIFIED:20240502T225459Z
UID:5737-1716372000-1716379200@feldajengka3.nadi.my
SUMMARY:Kelas ICT Kategori Usahawan
DESCRIPTION:· Promosi NADI \n· Klik dengan Bijak (Maklumat Palsu) \n· Latihan Keusahawanan (Perniagaan Dalam Talian)
URL:https://feldajengka3.nadi.my/event/kelas-ict-kategori-usahawan-248/
LOCATION:NADI Felda Jengka 3\, NADI Felda Jengka 3
CATEGORIES:DEFAULT
END:VEVENT
BEGIN:VEVENT
DTSTART;TZID=UTC:20240524T100000
DTEND;TZID=UTC:20240524T120000
DTSTAMP:20260424T060040
CREATED:20240502T230110Z
LAST-MODIFIED:20240502T230110Z
UID:5742-1716544800-1716552000@feldajengka3.nadi.my
SUMMARY:Kelas ICT - Kategori 18 tahun ke atas
DESCRIPTION:–  Promosi NADI \n– Klik dengan Bijak (Penipuan dalam Talian) \n– Latihan Keusahawanan- Perniagaan Secara Online (Shopee)
URL:https://feldajengka3.nadi.my/event/kelas-ict-kategori-18-tahun-ke-atas-304/
LOCATION:NADI Felda Jengka 3\, NADI Felda Jengka 3
CATEGORIES:DEFAULT
END:VEVENT
BEGIN:VEVENT
DTSTART;TZID=UTC:20240525T100000
DTEND;TZID=UTC:20240525T120000
DTSTAMP:20260424T060040
CREATED:20240502T231119Z
LAST-MODIFIED:20240502T231119Z
UID:5747-1716631200-1716638400@feldajengka3.nadi.my
SUMMARY:Kelas ICT - Kategori SK
DESCRIPTION:– Promosi NADI \n– Klik dengan Bijak (Keselamatan Internet)  \n– Kelas Komputer (Ms Word & Powerpoint) \n– e-Tuisyen Tahun 1\,2\,3\,4\,5 & 6 \n– Aktiviti STEM (Tayangan Video & Praktikal) \n· E-Learning (Quizizz\, tutor.com dll)
URL:https://feldajengka3.nadi.my/event/kelas-ict-kategori-sk-185/
LOCATION:NADI Felda Jengka 3\, NADI Felda Jengka 3
CATEGORIES:DEFAULT
END:VEVENT
BEGIN:VEVENT
DTSTART;TZID=UTC:20240526T100000
DTEND;TZID=UTC:20240526T120000
DTSTAMP:20260424T060040
CREATED:20240502T231309Z
LAST-MODIFIED:20240502T231309Z
UID:5751-1716717600-1716724800@feldajengka3.nadi.my
SUMMARY:Kelas ICT - Kategori SMK
DESCRIPTION:· Promosi NADI \n– Klik dengan Bijak (KETAGIH GAJET POSITIF ATAU NEGATIF) \n– E-learning (Quizizz) \n· Kelas Komputer (Ms Word & Publisher) \n–Aktiviti STEM (Tayangan Video & Praktikal)
URL:https://feldajengka3.nadi.my/event/kelas-ict-kategori-smk-191/
LOCATION:NADI Felda Jengka 3\, NADI Felda Jengka 3
CATEGORIES:DEFAULT
END:VEVENT
BEGIN:VEVENT
DTSTART;TZID=UTC:20240528T100000
DTEND;TZID=UTC:20240528T120000
DTSTAMP:20260424T060040
CREATED:20240502T232048Z
LAST-MODIFIED:20240502T232048Z
UID:5755-1716890400-1716897600@feldajengka3.nadi.my
SUMMARY:Kelas ICT - Kategori 18 tahun ke atas
DESCRIPTION:· Promosi NADI \n – Klik dengan Bijak (Keselamatan Negara Tanggungjawab Bersama)  \n· Latihan Keusahawanan (Pemasaran Dalam Talian)
URL:https://feldajengka3.nadi.my/event/kelas-ict-kategori-18-tahun-ke-atas-309/
LOCATION:NADI Felda Jengka 3\, NADI Felda Jengka 3
CATEGORIES:DEFAULT
END:VEVENT
BEGIN:VEVENT
DTSTART;TZID=UTC:20240529T100000
DTEND;TZID=UTC:20240529T120000
DTSTAMP:20260424T060040
CREATED:20240502T225459Z
LAST-MODIFIED:20240502T225459Z
UID:5738-1716976800-1716984000@feldajengka3.nadi.my
SUMMARY:Kelas ICT Kategori Usahawan
DESCRIPTION:· Promosi NADI \n· Klik dengan Bijak (Maklumat Palsu) \n· Latihan Keusahawanan (Perniagaan Dalam Talian)
URL:https://feldajengka3.nadi.my/event/kelas-ict-kategori-usahawan-249/
LOCATION:NADI Felda Jengka 3\, NADI Felda Jengka 3
CATEGORIES:DEFAULT
END:VEVENT
BEGIN:VEVENT
DTSTART;TZID=UTC:20240531T100000
DTEND;TZID=UTC:20240531T120000
DTSTAMP:20260424T060040
CREATED:20240502T230110Z
LAST-MODIFIED:20240502T230110Z
UID:5743-1717149600-1717156800@feldajengka3.nadi.my
SUMMARY:Kelas ICT - Kategori 18 tahun ke atas
DESCRIPTION:–  Promosi NADI \n– Klik dengan Bijak (Penipuan dalam Talian) \n– Latihan Keusahawanan- Perniagaan Secara Online (Shopee)
URL:https://feldajengka3.nadi.my/event/kelas-ict-kategori-18-tahun-ke-atas-305/
LOCATION:NADI Felda Jengka 3\, NADI Felda Jengka 3
CATEGORIES:DEFAULT
END:VEVENT
END:VCALENDAR