BEGIN:VCALENDAR
VERSION:2.0
PRODID:-//NADI Felda Jengka 3 - ECPv6.15.13.1//NONSGML v1.0//EN
CALSCALE:GREGORIAN
METHOD:PUBLISH
X-WR-CALNAME:NADI Felda Jengka 3
X-ORIGINAL-URL:https://feldajengka3.nadi.my
X-WR-CALDESC:Events for NADI Felda Jengka 3
REFRESH-INTERVAL;VALUE=DURATION:PT1H
X-Robots-Tag:noindex
X-PUBLISHED-TTL:PT1H
BEGIN:VTIMEZONE
TZID:UTC
BEGIN:STANDARD
TZOFFSETFROM:+0000
TZOFFSETTO:+0000
TZNAME:UTC
DTSTART:20230101T000000
END:STANDARD
END:VTIMEZONE
BEGIN:VEVENT
DTSTART;TZID=UTC:20240402T100000
DTEND;TZID=UTC:20240402T120000
DTSTAMP:20260423T100134
CREATED:20240331T193846Z
LAST-MODIFIED:20240331T193846Z
UID:5730-1712052000-1712059200@feldajengka3.nadi.my
SUMMARY:Kelas ICT - Kategori 18 tahun ke atas
DESCRIPTION:· Promosi NADI \n – Klik dengan Bijak (Tabayyun – Tak Pasti\, Jangan Kongsi)  \n· Latihan Keusahawanan (Perbankan Atas Talian)
URL:https://feldajengka3.nadi.my/event/kelas-ict-kategori-18-tahun-ke-atas-296/
LOCATION:NADI Felda Jengka 3\, NADI Felda Jengka 3
CATEGORIES:DEFAULT
END:VEVENT
BEGIN:VEVENT
DTSTART;TZID=UTC:20240403T100000
DTEND;TZID=UTC:20240403T120000
DTSTAMP:20260423T100134
CREATED:20240331T192152Z
LAST-MODIFIED:20240331T192152Z
UID:5714-1712138400-1712145600@feldajengka3.nadi.my
SUMMARY:Kelas ICT Kategori Usahawan
DESCRIPTION:· Promosi NADI \n· Klik dengan Bijak (Maklumat Palsu) \n· Latihan Keusahawanan (Kedai Dalam Talian)
URL:https://feldajengka3.nadi.my/event/kelas-ict-kategori-usahawan-242/
LOCATION:NADI Felda Jengka 3\, NADI Felda Jengka 3
CATEGORIES:DEFAULT
END:VEVENT
BEGIN:VEVENT
DTSTART;TZID=UTC:20240405T100000
DTEND;TZID=UTC:20240405T120000
DTSTAMP:20260423T100134
CREATED:20240331T193650Z
LAST-MODIFIED:20240331T193650Z
UID:5726-1712311200-1712318400@feldajengka3.nadi.my
SUMMARY:Kelas ICT - Kategori 18 tahun ke atas
DESCRIPTION:–  Promosi NADI \n– Klik dengan Bijak (Terlebih kongsi) \n– Latihan Keusahawanan- Perniagaan Secara Online (Tiktok)
URL:https://feldajengka3.nadi.my/event/kelas-ict-kategori-18-tahun-ke-atas-292/
LOCATION:NADI Felda Jengka 3\, NADI Felda Jengka 3
CATEGORIES:DEFAULT
END:VEVENT
BEGIN:VEVENT
DTSTART;TZID=UTC:20240406T100000
DTEND;TZID=UTC:20240406T120000
DTSTAMP:20260423T100134
CREATED:20240331T192307Z
LAST-MODIFIED:20240331T192307Z
UID:5718-1712397600-1712404800@feldajengka3.nadi.my
SUMMARY:Kelas ICT - Kategori SK
DESCRIPTION:– Promosi NADI \n– Klik dengan Bijak (Buli Siber)  \n– Kelas Komputer (Ms Word & Publisher) \n– e-Tuisyen Tahun 1\,2\,3\,4\,5 & 6 \n– Aktiviti STEM (Tayangan Video & Praktikal) \n· E-Learning (Quizizz\, tutor.com dll)
URL:https://feldajengka3.nadi.my/event/kelas-ict-kategori-sk-178/
LOCATION:NADI Felda Jengka 3\, NADI Felda Jengka 3
CATEGORIES:DEFAULT
END:VEVENT
BEGIN:VEVENT
DTSTART;TZID=UTC:20240407T100000
DTEND;TZID=UTC:20240407T120000
DTSTAMP:20260423T100134
CREATED:20240331T193334Z
LAST-MODIFIED:20240331T193334Z
UID:5722-1712484000-1712491200@feldajengka3.nadi.my
SUMMARY:Kelas ICT - Kategori SMK
DESCRIPTION:· Promosi NADI \n– Klik dengan Bijak (Internet\, Dosa Pahala\, dan Kawalan Kendiri) \n– E-learning (Quizizz) \n· Kelas Komputer (Ms Word & Powerpoint) \n–Aktiviti STEM (Tayangan Video & Praktikal)
URL:https://feldajengka3.nadi.my/event/kelas-ict-kategori-smk-184/
LOCATION:NADI Felda Jengka 3\, NADI Felda Jengka 3
CATEGORIES:DEFAULT
END:VEVENT
BEGIN:VEVENT
DTSTART;TZID=UTC:20240409T100000
DTEND;TZID=UTC:20240409T120000
DTSTAMP:20260423T100134
CREATED:20240331T193846Z
LAST-MODIFIED:20240331T193846Z
UID:5731-1712656800-1712664000@feldajengka3.nadi.my
SUMMARY:Kelas ICT - Kategori 18 tahun ke atas
DESCRIPTION:· Promosi NADI \n – Klik dengan Bijak (Tabayyun – Tak Pasti\, Jangan Kongsi)  \n· Latihan Keusahawanan (Perbankan Atas Talian)
URL:https://feldajengka3.nadi.my/event/kelas-ict-kategori-18-tahun-ke-atas-297/
LOCATION:NADI Felda Jengka 3\, NADI Felda Jengka 3
CATEGORIES:DEFAULT
END:VEVENT
BEGIN:VEVENT
DTSTART;TZID=UTC:20240410T100000
DTEND;TZID=UTC:20240410T120000
DTSTAMP:20260423T100134
CREATED:20240331T192152Z
LAST-MODIFIED:20240331T192152Z
UID:5715-1712743200-1712750400@feldajengka3.nadi.my
SUMMARY:Kelas ICT Kategori Usahawan
DESCRIPTION:· Promosi NADI \n· Klik dengan Bijak (Maklumat Palsu) \n· Latihan Keusahawanan (Kedai Dalam Talian)
URL:https://feldajengka3.nadi.my/event/kelas-ict-kategori-usahawan-243/
LOCATION:NADI Felda Jengka 3\, NADI Felda Jengka 3
CATEGORIES:DEFAULT
END:VEVENT
BEGIN:VEVENT
DTSTART;TZID=UTC:20240412T100000
DTEND;TZID=UTC:20240412T120000
DTSTAMP:20260423T100134
CREATED:20240331T193650Z
LAST-MODIFIED:20240331T193650Z
UID:5727-1712916000-1712923200@feldajengka3.nadi.my
SUMMARY:Kelas ICT - Kategori 18 tahun ke atas
DESCRIPTION:–  Promosi NADI \n– Klik dengan Bijak (Terlebih kongsi) \n– Latihan Keusahawanan- Perniagaan Secara Online (Tiktok)
URL:https://feldajengka3.nadi.my/event/kelas-ict-kategori-18-tahun-ke-atas-293/
LOCATION:NADI Felda Jengka 3\, NADI Felda Jengka 3
CATEGORIES:DEFAULT
END:VEVENT
BEGIN:VEVENT
DTSTART;TZID=UTC:20240413T100000
DTEND;TZID=UTC:20240413T120000
DTSTAMP:20260423T100134
CREATED:20240331T192307Z
LAST-MODIFIED:20240331T192307Z
UID:5719-1713002400-1713009600@feldajengka3.nadi.my
SUMMARY:Kelas ICT - Kategori SK
DESCRIPTION:– Promosi NADI \n– Klik dengan Bijak (Buli Siber)  \n– Kelas Komputer (Ms Word & Publisher) \n– e-Tuisyen Tahun 1\,2\,3\,4\,5 & 6 \n– Aktiviti STEM (Tayangan Video & Praktikal) \n· E-Learning (Quizizz\, tutor.com dll)
URL:https://feldajengka3.nadi.my/event/kelas-ict-kategori-sk-179/
LOCATION:NADI Felda Jengka 3\, NADI Felda Jengka 3
CATEGORIES:DEFAULT
END:VEVENT
BEGIN:VEVENT
DTSTART;TZID=UTC:20240414T100000
DTEND;TZID=UTC:20240414T120000
DTSTAMP:20260423T100134
CREATED:20240331T193334Z
LAST-MODIFIED:20240331T193334Z
UID:5723-1713088800-1713096000@feldajengka3.nadi.my
SUMMARY:Kelas ICT - Kategori SMK
DESCRIPTION:· Promosi NADI \n– Klik dengan Bijak (Internet\, Dosa Pahala\, dan Kawalan Kendiri) \n– E-learning (Quizizz) \n· Kelas Komputer (Ms Word & Powerpoint) \n–Aktiviti STEM (Tayangan Video & Praktikal)
URL:https://feldajengka3.nadi.my/event/kelas-ict-kategori-smk-185/
LOCATION:NADI Felda Jengka 3\, NADI Felda Jengka 3
CATEGORIES:DEFAULT
END:VEVENT
BEGIN:VEVENT
DTSTART;TZID=UTC:20240416T100000
DTEND;TZID=UTC:20240416T120000
DTSTAMP:20260423T100134
CREATED:20240331T193846Z
LAST-MODIFIED:20240331T193846Z
UID:5732-1713261600-1713268800@feldajengka3.nadi.my
SUMMARY:Kelas ICT - Kategori 18 tahun ke atas
DESCRIPTION:· Promosi NADI \n – Klik dengan Bijak (Tabayyun – Tak Pasti\, Jangan Kongsi)  \n· Latihan Keusahawanan (Perbankan Atas Talian)
URL:https://feldajengka3.nadi.my/event/kelas-ict-kategori-18-tahun-ke-atas-298/
LOCATION:NADI Felda Jengka 3\, NADI Felda Jengka 3
CATEGORIES:DEFAULT
END:VEVENT
BEGIN:VEVENT
DTSTART;TZID=UTC:20240417T100000
DTEND;TZID=UTC:20240417T120000
DTSTAMP:20260423T100134
CREATED:20240331T192152Z
LAST-MODIFIED:20240331T192152Z
UID:5716-1713348000-1713355200@feldajengka3.nadi.my
SUMMARY:Kelas ICT Kategori Usahawan
DESCRIPTION:· Promosi NADI \n· Klik dengan Bijak (Maklumat Palsu) \n· Latihan Keusahawanan (Kedai Dalam Talian)
URL:https://feldajengka3.nadi.my/event/kelas-ict-kategori-usahawan-244/
LOCATION:NADI Felda Jengka 3\, NADI Felda Jengka 3
CATEGORIES:DEFAULT
END:VEVENT
BEGIN:VEVENT
DTSTART;TZID=UTC:20240419T100000
DTEND;TZID=UTC:20240419T120000
DTSTAMP:20260423T100134
CREATED:20240331T193650Z
LAST-MODIFIED:20240331T193650Z
UID:5728-1713520800-1713528000@feldajengka3.nadi.my
SUMMARY:Kelas ICT - Kategori 18 tahun ke atas
DESCRIPTION:–  Promosi NADI \n– Klik dengan Bijak (Terlebih kongsi) \n– Latihan Keusahawanan- Perniagaan Secara Online (Tiktok)
URL:https://feldajengka3.nadi.my/event/kelas-ict-kategori-18-tahun-ke-atas-294/
LOCATION:NADI Felda Jengka 3\, NADI Felda Jengka 3
CATEGORIES:DEFAULT
END:VEVENT
BEGIN:VEVENT
DTSTART;TZID=UTC:20240420T100000
DTEND;TZID=UTC:20240420T120000
DTSTAMP:20260423T100134
CREATED:20240331T192307Z
LAST-MODIFIED:20240331T192307Z
UID:5720-1713607200-1713614400@feldajengka3.nadi.my
SUMMARY:Kelas ICT - Kategori SK
DESCRIPTION:– Promosi NADI \n– Klik dengan Bijak (Buli Siber)  \n– Kelas Komputer (Ms Word & Publisher) \n– e-Tuisyen Tahun 1\,2\,3\,4\,5 & 6 \n– Aktiviti STEM (Tayangan Video & Praktikal) \n· E-Learning (Quizizz\, tutor.com dll)
URL:https://feldajengka3.nadi.my/event/kelas-ict-kategori-sk-180/
LOCATION:NADI Felda Jengka 3\, NADI Felda Jengka 3
CATEGORIES:DEFAULT
END:VEVENT
BEGIN:VEVENT
DTSTART;TZID=UTC:20240421T100000
DTEND;TZID=UTC:20240421T120000
DTSTAMP:20260423T100134
CREATED:20240331T193334Z
LAST-MODIFIED:20240331T193334Z
UID:5724-1713693600-1713700800@feldajengka3.nadi.my
SUMMARY:Kelas ICT - Kategori SMK
DESCRIPTION:· Promosi NADI \n– Klik dengan Bijak (Internet\, Dosa Pahala\, dan Kawalan Kendiri) \n– E-learning (Quizizz) \n· Kelas Komputer (Ms Word & Powerpoint) \n–Aktiviti STEM (Tayangan Video & Praktikal)
URL:https://feldajengka3.nadi.my/event/kelas-ict-kategori-smk-186/
LOCATION:NADI Felda Jengka 3\, NADI Felda Jengka 3
CATEGORIES:DEFAULT
END:VEVENT
BEGIN:VEVENT
DTSTART;TZID=UTC:20240423T100000
DTEND;TZID=UTC:20240423T120000
DTSTAMP:20260423T100134
CREATED:20240331T193846Z
LAST-MODIFIED:20240331T193846Z
UID:5733-1713866400-1713873600@feldajengka3.nadi.my
SUMMARY:Kelas ICT - Kategori 18 tahun ke atas
DESCRIPTION:· Promosi NADI \n – Klik dengan Bijak (Tabayyun – Tak Pasti\, Jangan Kongsi)  \n· Latihan Keusahawanan (Perbankan Atas Talian)
URL:https://feldajengka3.nadi.my/event/kelas-ict-kategori-18-tahun-ke-atas-299/
LOCATION:NADI Felda Jengka 3\, NADI Felda Jengka 3
CATEGORIES:DEFAULT
END:VEVENT
BEGIN:VEVENT
DTSTART;TZID=UTC:20240424T100000
DTEND;TZID=UTC:20240424T120000
DTSTAMP:20260423T100134
CREATED:20240331T192152Z
LAST-MODIFIED:20240331T192152Z
UID:5717-1713952800-1713960000@feldajengka3.nadi.my
SUMMARY:Kelas ICT Kategori Usahawan
DESCRIPTION:· Promosi NADI \n· Klik dengan Bijak (Maklumat Palsu) \n· Latihan Keusahawanan (Kedai Dalam Talian)
URL:https://feldajengka3.nadi.my/event/kelas-ict-kategori-usahawan-245/
LOCATION:NADI Felda Jengka 3\, NADI Felda Jengka 3
CATEGORIES:DEFAULT
END:VEVENT
BEGIN:VEVENT
DTSTART;TZID=UTC:20240426T100000
DTEND;TZID=UTC:20240426T120000
DTSTAMP:20260423T100134
CREATED:20240331T193650Z
LAST-MODIFIED:20240331T193650Z
UID:5729-1714125600-1714132800@feldajengka3.nadi.my
SUMMARY:Kelas ICT - Kategori 18 tahun ke atas
DESCRIPTION:–  Promosi NADI \n– Klik dengan Bijak (Terlebih kongsi) \n– Latihan Keusahawanan- Perniagaan Secara Online (Tiktok)
URL:https://feldajengka3.nadi.my/event/kelas-ict-kategori-18-tahun-ke-atas-295/
LOCATION:NADI Felda Jengka 3\, NADI Felda Jengka 3
CATEGORIES:DEFAULT
END:VEVENT
BEGIN:VEVENT
DTSTART;TZID=UTC:20240427T100000
DTEND;TZID=UTC:20240427T120000
DTSTAMP:20260423T100134
CREATED:20240331T192307Z
LAST-MODIFIED:20240331T192307Z
UID:5721-1714212000-1714219200@feldajengka3.nadi.my
SUMMARY:Kelas ICT - Kategori SK
DESCRIPTION:– Promosi NADI \n– Klik dengan Bijak (Buli Siber)  \n– Kelas Komputer (Ms Word & Publisher) \n– e-Tuisyen Tahun 1\,2\,3\,4\,5 & 6 \n– Aktiviti STEM (Tayangan Video & Praktikal) \n· E-Learning (Quizizz\, tutor.com dll)
URL:https://feldajengka3.nadi.my/event/kelas-ict-kategori-sk-181/
LOCATION:NADI Felda Jengka 3\, NADI Felda Jengka 3
CATEGORIES:DEFAULT
END:VEVENT
BEGIN:VEVENT
DTSTART;TZID=UTC:20240428T100000
DTEND;TZID=UTC:20240428T120000
DTSTAMP:20260423T100134
CREATED:20240331T193334Z
LAST-MODIFIED:20240331T193334Z
UID:5725-1714298400-1714305600@feldajengka3.nadi.my
SUMMARY:Kelas ICT - Kategori SMK
DESCRIPTION:· Promosi NADI \n– Klik dengan Bijak (Internet\, Dosa Pahala\, dan Kawalan Kendiri) \n– E-learning (Quizizz) \n· Kelas Komputer (Ms Word & Powerpoint) \n–Aktiviti STEM (Tayangan Video & Praktikal)
URL:https://feldajengka3.nadi.my/event/kelas-ict-kategori-smk-187/
LOCATION:NADI Felda Jengka 3\, NADI Felda Jengka 3
CATEGORIES:DEFAULT
END:VEVENT
BEGIN:VEVENT
DTSTART;TZID=UTC:20240430T100000
DTEND;TZID=UTC:20240430T120000
DTSTAMP:20260423T100134
CREATED:20240331T193846Z
LAST-MODIFIED:20240331T193846Z
UID:5734-1714471200-1714478400@feldajengka3.nadi.my
SUMMARY:Kelas ICT - Kategori 18 tahun ke atas
DESCRIPTION:· Promosi NADI \n – Klik dengan Bijak (Tabayyun – Tak Pasti\, Jangan Kongsi)  \n· Latihan Keusahawanan (Perbankan Atas Talian)
URL:https://feldajengka3.nadi.my/event/kelas-ict-kategori-18-tahun-ke-atas-300/
LOCATION:NADI Felda Jengka 3\, NADI Felda Jengka 3
CATEGORIES:DEFAULT
END:VEVENT
END:VCALENDAR