BEGIN:VCALENDAR
VERSION:2.0
PRODID:-//NADI Felda Jengka 3 - ECPv6.15.13.1//NONSGML v1.0//EN
CALSCALE:GREGORIAN
METHOD:PUBLISH
X-WR-CALNAME:NADI Felda Jengka 3
X-ORIGINAL-URL:https://feldajengka3.nadi.my
X-WR-CALDESC:Events for NADI Felda Jengka 3
REFRESH-INTERVAL;VALUE=DURATION:PT1H
X-Robots-Tag:noindex
X-PUBLISHED-TTL:PT1H
BEGIN:VTIMEZONE
TZID:UTC
BEGIN:STANDARD
TZOFFSETFROM:+0000
TZOFFSETTO:+0000
TZNAME:UTC
DTSTART:20230101T000000
END:STANDARD
END:VTIMEZONE
BEGIN:VEVENT
DTSTART;TZID=UTC:20240820T100000
DTEND;TZID=UTC:20240820T120000
DTSTAMP:20260421T234018
CREATED:20240630T201328Z
LAST-MODIFIED:20240630T201328Z
UID:5811-1724148000-1724155200@feldajengka3.nadi.my
SUMMARY:Kelas Soft Skills
DESCRIPTION:– Kelas Resume \n– Kelas Grooming \n– Kelas Kemahiran Temuduga \n– Pengurusan Asas Kewangan \n 
URL:https://feldajengka3.nadi.my/event/kelas-soft-skills-11/
LOCATION:NADI Felda Jengka 3\, NADI Felda Jengka 3
CATEGORIES:DEFAULT
END:VEVENT
BEGIN:VEVENT
DTSTART;TZID=UTC:20240819T100000
DTEND;TZID=UTC:20240819T170000
DTSTAMP:20260421T234018
CREATED:20240731T184051Z
LAST-MODIFIED:20240731T184051Z
UID:5807-1724061600-1724086800@feldajengka3.nadi.my
SUMMARY:Promosi NADI & Klik dengan Bijak
DESCRIPTION:Promosi – Hebahan Perkhidmatan\, Program\, Aktiviti\, Kelas/Latihan \nKDB – teknologi & anda\, aspirasi digital \nKDB – aduan & maklumat palsu \nKDB – buli siber\, penipuan kewangan \nKDB – mobile eWaste\, check your label
URL:https://feldajengka3.nadi.my/event/promosi-nadi-klik-dengan-bijak-3/
LOCATION:NADI Felda Jengka 3\, NADI Felda Jengka 3
CATEGORIES:DEFAULT
END:VEVENT
BEGIN:VEVENT
DTSTART;TZID=UTC:20240818T100000
DTEND;TZID=UTC:20240818T120000
DTSTAMP:20260421T234018
CREATED:20240731T183134Z
LAST-MODIFIED:20240731T183134Z
UID:5803-1723975200-1723982400@feldajengka3.nadi.my
SUMMARY:e-Pembelajaran
DESCRIPTION:– Aplikasi Pembelajaran\, Permainan Pembelajaran  \n-Tutoriol\, Kuiz
URL:https://feldajengka3.nadi.my/event/e-pembelajaran-3/
LOCATION:NADI Felda Jengka 3\, NADI Felda Jengka 3
CATEGORIES:DEFAULT
END:VEVENT
BEGIN:VEVENT
DTSTART;TZID=UTC:20240817T100000
DTEND;TZID=UTC:20240817T120000
DTSTAMP:20260421T234018
CREATED:20240731T182805Z
LAST-MODIFIED:20240731T182805Z
UID:5799-1723888800-1723896000@feldajengka3.nadi.my
SUMMARY:Kelas ICT & Aktiviti STEM
DESCRIPTION:Kelas ICT – pengenalan komputer & internet\n \nAktiviti STEM – Asas IoT\, Robotic\n 
URL:https://feldajengka3.nadi.my/event/kelas-ict-aktiviti-stem-3/
LOCATION:NADI Felda Jengka 3\, NADI Felda Jengka 3
CATEGORIES:DEFAULT
END:VEVENT
BEGIN:VEVENT
DTSTART;TZID=UTC:20240816T100000
DTEND;TZID=UTC:20240816T170000
DTSTAMP:20260421T234018
CREATED:20240731T184051Z
LAST-MODIFIED:20240731T184051Z
UID:5819-1723802400-1723827600@feldajengka3.nadi.my
SUMMARY:Promosi NADI & Klik dengan Bijak
DESCRIPTION:Promosi – Hebahan Perkhidmatan\, Program\, Aktiviti\, Kelas/Latihan \nKDB – teknologi & anda\, aspirasi digital \nKDB – aduan & maklumat palsu \nKDB – buli siber\, penipuan kewangan \nKDB – mobile eWaste\, check your label
URL:https://feldajengka3.nadi.my/event/promosi-nadi-klik-dengan-bijak-7/
LOCATION:NADI Felda Jengka 3\, NADI Felda Jengka 3
CATEGORIES:DEFAULT
END:VEVENT
BEGIN:VEVENT
DTSTART;TZID=UTC:20240815T100000
DTEND;TZID=UTC:20240815T120000
DTSTAMP:20260421T234018
CREATED:20240630T200827Z
LAST-MODIFIED:20240630T200827Z
UID:5823-1723716000-1723723200@feldajengka3.nadi.my
SUMMARY:Kelas Keusahawanan
DESCRIPTION:– Microsoft Office (word\, excel\, publisher\,p.point) \n– Kemahiran Keusahawanan & Sosial Media) \n– Perniagaan & PemasaranSecara Online (shopee\, lazada) \n– Asas Media Baru (Instagram\, FB\, TwitterX\, Tiktok) \n– Perbankan Online \n 
URL:https://feldajengka3.nadi.my/event/kelas-keusahawanan-126/
LOCATION:NADI Felda Jengka 3\, NADI Felda Jengka 3
CATEGORIES:DEFAULT
END:VEVENT
BEGIN:VEVENT
DTSTART;TZID=UTC:20240814T100000
DTEND;TZID=UTC:20240814T120000
DTSTAMP:20260421T234018
CREATED:20240731T191348Z
LAST-MODIFIED:20240731T191348Z
UID:5814-1723629600-1723636800@feldajengka3.nadi.my
SUMMARY:Kelas Komputer & ICT
DESCRIPTION:– Pengenalan kepada Komputer & Internet  \n– Microsoft Office (word\, excel\, publisher\, p.point)
URL:https://feldajengka3.nadi.my/event/kelas-komputer-ict-2/
CATEGORIES:DEFAULT
END:VEVENT
BEGIN:VEVENT
DTSTART;TZID=UTC:20240813T100000
DTEND;TZID=UTC:20240813T120000
DTSTAMP:20260421T234018
CREATED:20240630T201328Z
LAST-MODIFIED:20240630T201328Z
UID:5810-1723543200-1723550400@feldajengka3.nadi.my
SUMMARY:Kelas Soft Skills
DESCRIPTION:– Kelas Resume \n– Kelas Grooming \n– Kelas Kemahiran Temuduga \n– Pengurusan Asas Kewangan \n 
URL:https://feldajengka3.nadi.my/event/kelas-soft-skills-10/
LOCATION:NADI Felda Jengka 3\, NADI Felda Jengka 3
CATEGORIES:DEFAULT
END:VEVENT
BEGIN:VEVENT
DTSTART;TZID=UTC:20240812T100000
DTEND;TZID=UTC:20240812T170000
DTSTAMP:20260421T234018
CREATED:20240731T184051Z
LAST-MODIFIED:20240731T184051Z
UID:5806-1723456800-1723482000@feldajengka3.nadi.my
SUMMARY:Promosi NADI & Klik dengan Bijak
DESCRIPTION:Promosi – Hebahan Perkhidmatan\, Program\, Aktiviti\, Kelas/Latihan \nKDB – teknologi & anda\, aspirasi digital \nKDB – aduan & maklumat palsu \nKDB – buli siber\, penipuan kewangan \nKDB – mobile eWaste\, check your label
URL:https://feldajengka3.nadi.my/event/promosi-nadi-klik-dengan-bijak-2/
LOCATION:NADI Felda Jengka 3\, NADI Felda Jengka 3
CATEGORIES:DEFAULT
END:VEVENT
BEGIN:VEVENT
DTSTART;TZID=UTC:20240811T100000
DTEND;TZID=UTC:20240811T120000
DTSTAMP:20260421T234018
CREATED:20240731T183134Z
LAST-MODIFIED:20240731T183134Z
UID:5802-1723370400-1723377600@feldajengka3.nadi.my
SUMMARY:e-Pembelajaran
DESCRIPTION:– Aplikasi Pembelajaran\, Permainan Pembelajaran  \n-Tutoriol\, Kuiz
URL:https://feldajengka3.nadi.my/event/e-pembelajaran-2/
LOCATION:NADI Felda Jengka 3\, NADI Felda Jengka 3
CATEGORIES:DEFAULT
END:VEVENT
BEGIN:VEVENT
DTSTART;TZID=UTC:20240810T100000
DTEND;TZID=UTC:20240810T120000
DTSTAMP:20260421T234018
CREATED:20240731T182805Z
LAST-MODIFIED:20240731T182805Z
UID:5798-1723284000-1723291200@feldajengka3.nadi.my
SUMMARY:Kelas ICT & Aktiviti STEM
DESCRIPTION:Kelas ICT – pengenalan komputer & internet\n \nAktiviti STEM – Asas IoT\, Robotic\n 
URL:https://feldajengka3.nadi.my/event/kelas-ict-aktiviti-stem-2/
LOCATION:NADI Felda Jengka 3\, NADI Felda Jengka 3
CATEGORIES:DEFAULT
END:VEVENT
BEGIN:VEVENT
DTSTART;TZID=UTC:20240809T100000
DTEND;TZID=UTC:20240809T170000
DTSTAMP:20260421T234018
CREATED:20240731T184051Z
LAST-MODIFIED:20240731T184051Z
UID:5818-1723197600-1723222800@feldajengka3.nadi.my
SUMMARY:Promosi NADI & Klik dengan Bijak
DESCRIPTION:Promosi – Hebahan Perkhidmatan\, Program\, Aktiviti\, Kelas/Latihan \nKDB – teknologi & anda\, aspirasi digital \nKDB – aduan & maklumat palsu \nKDB – buli siber\, penipuan kewangan \nKDB – mobile eWaste\, check your label
URL:https://feldajengka3.nadi.my/event/promosi-nadi-klik-dengan-bijak-6/
LOCATION:NADI Felda Jengka 3\, NADI Felda Jengka 3
CATEGORIES:DEFAULT
END:VEVENT
BEGIN:VEVENT
DTSTART;TZID=UTC:20240808T100000
DTEND;TZID=UTC:20240808T120000
DTSTAMP:20260421T234018
CREATED:20240630T200827Z
LAST-MODIFIED:20240630T200827Z
UID:5822-1723111200-1723118400@feldajengka3.nadi.my
SUMMARY:Kelas Keusahawanan
DESCRIPTION:– Microsoft Office (word\, excel\, publisher\,p.point) \n– Kemahiran Keusahawanan & Sosial Media) \n– Perniagaan & PemasaranSecara Online (shopee\, lazada) \n– Asas Media Baru (Instagram\, FB\, TwitterX\, Tiktok) \n– Perbankan Online \n 
URL:https://feldajengka3.nadi.my/event/kelas-keusahawanan-125/
LOCATION:NADI Felda Jengka 3\, NADI Felda Jengka 3
CATEGORIES:DEFAULT
END:VEVENT
BEGIN:VEVENT
DTSTART;TZID=UTC:20240807T100000
DTEND;TZID=UTC:20240807T120000
DTSTAMP:20260421T234018
CREATED:20240731T191348Z
LAST-MODIFIED:20240731T191348Z
UID:5813-1723024800-1723032000@feldajengka3.nadi.my
SUMMARY:Kelas Komputer & ICT
DESCRIPTION:– Pengenalan kepada Komputer & Internet  \n– Microsoft Office (word\, excel\, publisher\, p.point)
URL:https://feldajengka3.nadi.my/event/kelas-komputer-ict/
CATEGORIES:DEFAULT
END:VEVENT
BEGIN:VEVENT
DTSTART;TZID=UTC:20240806T100000
DTEND;TZID=UTC:20240806T120000
DTSTAMP:20260421T234018
CREATED:20240630T201328Z
LAST-MODIFIED:20240630T201328Z
UID:5809-1722938400-1722945600@feldajengka3.nadi.my
SUMMARY:Kelas Soft Skills
DESCRIPTION:– Kelas Resume \n– Kelas Grooming \n– Kelas Kemahiran Temuduga \n– Pengurusan Asas Kewangan \n 
URL:https://feldajengka3.nadi.my/event/kelas-soft-skills-9/
LOCATION:NADI Felda Jengka 3\, NADI Felda Jengka 3
CATEGORIES:DEFAULT
END:VEVENT
BEGIN:VEVENT
DTSTART;TZID=UTC:20240805T100000
DTEND;TZID=UTC:20240805T170000
DTSTAMP:20260421T234018
CREATED:20240731T184051Z
LAST-MODIFIED:20240731T184051Z
UID:5805-1722852000-1722877200@feldajengka3.nadi.my
SUMMARY:Promosi NADI & Klik dengan Bijak
DESCRIPTION:Promosi – Hebahan Perkhidmatan\, Program\, Aktiviti\, Kelas/Latihan \nKDB – teknologi & anda\, aspirasi digital \nKDB – aduan & maklumat palsu \nKDB – buli siber\, penipuan kewangan \nKDB – mobile eWaste\, check your label
URL:https://feldajengka3.nadi.my/event/promosi-nadi-klik-dengan-bijak/
LOCATION:NADI Felda Jengka 3\, NADI Felda Jengka 3
CATEGORIES:DEFAULT
END:VEVENT
BEGIN:VEVENT
DTSTART;TZID=UTC:20240804T100000
DTEND;TZID=UTC:20240804T120000
DTSTAMP:20260421T234018
CREATED:20240731T183134Z
LAST-MODIFIED:20240731T183134Z
UID:5801-1722765600-1722772800@feldajengka3.nadi.my
SUMMARY:e-Pembelajaran
DESCRIPTION:– Aplikasi Pembelajaran\, Permainan Pembelajaran  \n-Tutoriol\, Kuiz
URL:https://feldajengka3.nadi.my/event/e-pembelajaran/
LOCATION:NADI Felda Jengka 3\, NADI Felda Jengka 3
CATEGORIES:DEFAULT
END:VEVENT
BEGIN:VEVENT
DTSTART;TZID=UTC:20240803T100000
DTEND;TZID=UTC:20240803T120000
DTSTAMP:20260421T234018
CREATED:20240731T182805Z
LAST-MODIFIED:20240731T182805Z
UID:5797-1722679200-1722686400@feldajengka3.nadi.my
SUMMARY:Kelas ICT & Aktiviti STEM
DESCRIPTION:Kelas ICT – pengenalan komputer & internet\n \nAktiviti STEM – Asas IoT\, Robotic\n 
URL:https://feldajengka3.nadi.my/event/kelas-ict-aktiviti-stem/
LOCATION:NADI Felda Jengka 3\, NADI Felda Jengka 3
CATEGORIES:DEFAULT
END:VEVENT
BEGIN:VEVENT
DTSTART;TZID=UTC:20240802T100000
DTEND;TZID=UTC:20240802T170000
DTSTAMP:20260421T234018
CREATED:20240731T184051Z
LAST-MODIFIED:20240731T184051Z
UID:5817-1722592800-1722618000@feldajengka3.nadi.my
SUMMARY:Promosi NADI & Klik dengan Bijak
DESCRIPTION:Promosi – Hebahan Perkhidmatan\, Program\, Aktiviti\, Kelas/Latihan \nKDB – teknologi & anda\, aspirasi digital \nKDB – aduan & maklumat palsu \nKDB – buli siber\, penipuan kewangan \nKDB – mobile eWaste\, check your label
URL:https://feldajengka3.nadi.my/event/promosi-nadi-klik-dengan-bijak-5/
LOCATION:NADI Felda Jengka 3\, NADI Felda Jengka 3
CATEGORIES:DEFAULT
END:VEVENT
BEGIN:VEVENT
DTSTART;TZID=UTC:20240801T100000
DTEND;TZID=UTC:20240801T120000
DTSTAMP:20260421T234018
CREATED:20240630T200827Z
LAST-MODIFIED:20240630T200827Z
UID:5826-1722506400-1722513600@feldajengka3.nadi.my
SUMMARY:Kelas Keusahawanan
DESCRIPTION:– Microsoft Office (word\, excel\, publisher\,p.point) \n– Kemahiran Keusahawanan & Sosial Media) \n– Perniagaan & PemasaranSecara Online (shopee\, lazada) \n– Asas Media Baru (Instagram\, FB\, TwitterX\, Tiktok) \n– Perbankan Online \n 
URL:https://feldajengka3.nadi.my/event/kelas-keusahawanan-129/
LOCATION:NADI Felda Jengka 3\, NADI Felda Jengka 3
CATEGORIES:DEFAULT
END:VEVENT
BEGIN:VEVENT
DTSTART;TZID=UTC:20240728T100000
DTEND;TZID=UTC:20240728T120000
DTSTAMP:20260421T234018
CREATED:20240630T201208Z
LAST-MODIFIED:20240630T201208Z
UID:5792-1722160800-1722168000@feldajengka3.nadi.my
SUMMARY:Kelas E-Learning & Kelas Komputer
DESCRIPTION:– E-learning (Word Search online\, Puzzle online\, Quizizz) \n– Klik dengan Bijak (Pengantunan Dalam Talian) \n· Kelas Komputer (Ms Word & Publisher) \n– e-Tuisyen
URL:https://feldajengka3.nadi.my/event/kelas-e-learning-kelas-komputer-9/
LOCATION:NADI Felda Jengka 3\, NADI Felda Jengka 3
CATEGORIES:DEFAULT
END:VEVENT
BEGIN:VEVENT
DTSTART;TZID=UTC:20240727T100000
DTEND;TZID=UTC:20240727T120000
DTSTAMP:20260421T234018
CREATED:20240630T201057Z
LAST-MODIFIED:20240630T201057Z
UID:5788-1722074400-1722081600@feldajengka3.nadi.my
SUMMARY:Kelas STEM & Kelas Komputer
DESCRIPTION:– Aktiviti STEM (Tayangan Video & Praktikal) \n– Klik dengan Bijak (Penyalahgunaan Media Sosial)  \n– Kelas Komputer (Ms Word & Powerpoint)
URL:https://feldajengka3.nadi.my/event/kelas-stem-kelas-komputer-4/
LOCATION:NADI Felda Jengka 3\, NADI Felda Jengka 3
CATEGORIES:DEFAULT
END:VEVENT
BEGIN:VEVENT
DTSTART;TZID=UTC:20240726T100000
DTEND;TZID=UTC:20240726T120000
DTSTAMP:20260421T234018
CREATED:20240630T201524Z
LAST-MODIFIED:20240630T201524Z
UID:5796-1721988000-1721995200@feldajengka3.nadi.my
SUMMARY:Kelas ICT
DESCRIPTION:· Promosi NADI \n– Ms Office (Word & Publisher) \n– Ekerajaan\, Gmail\, FB dll
URL:https://feldajengka3.nadi.my/event/kelas-ict-12/
LOCATION:NADI Felda Jengka 3\, NADI Felda Jengka 3
CATEGORIES:DEFAULT
END:VEVENT
BEGIN:VEVENT
DTSTART;TZID=UTC:20240725T100000
DTEND;TZID=UTC:20240725T120000
DTSTAMP:20260421T234018
CREATED:20240630T200944Z
LAST-MODIFIED:20240630T200944Z
UID:5784-1721901600-1721908800@feldajengka3.nadi.my
SUMMARY:Kelas ICT
DESCRIPTION:· Promosi NADI \n– Ms Office (Word & Powerpoint) \n– Ekerajaan\, Gmail\, FB dll
URL:https://feldajengka3.nadi.my/event/kelas-ict-8/
LOCATION:NADI Felda Jengka 3\, NADI Felda Jengka 3
CATEGORIES:DEFAULT
END:VEVENT
BEGIN:VEVENT
DTSTART;TZID=UTC:20240723T100000
DTEND;TZID=UTC:20240723T120000
DTSTAMP:20260421T234018
CREATED:20240630T200711Z
LAST-MODIFIED:20240630T200711Z
UID:5780-1721728800-1721736000@feldajengka3.nadi.my
SUMMARY:Kelas Soft Skills
DESCRIPTION:· Promosi NADI \n– Kelas Soft Skills (Resume – Microsoft Word @ Canva) \n– Klik dengan Bijak (Bagaimana Anda Boleh Melindungi Data Peribadi Anda)  \n 
URL:https://feldajengka3.nadi.my/event/kelas-soft-skills-8/
LOCATION:NADI Felda Jengka 3\, NADI Felda Jengka 3
CATEGORIES:DEFAULT
END:VEVENT
BEGIN:VEVENT
DTSTART;TZID=UTC:20240721T100000
DTEND;TZID=UTC:20240721T120000
DTSTAMP:20260421T234018
CREATED:20240630T201208Z
LAST-MODIFIED:20240630T201208Z
UID:5791-1721556000-1721563200@feldajengka3.nadi.my
SUMMARY:Kelas E-Learning & Kelas Komputer
DESCRIPTION:– E-learning (Word Search online\, Puzzle online\, Quizizz) \n– Klik dengan Bijak (Pengantunan Dalam Talian) \n· Kelas Komputer (Ms Word & Publisher) \n– e-Tuisyen
URL:https://feldajengka3.nadi.my/event/kelas-e-learning-kelas-komputer-8/
LOCATION:NADI Felda Jengka 3\, NADI Felda Jengka 3
CATEGORIES:DEFAULT
END:VEVENT
BEGIN:VEVENT
DTSTART;TZID=UTC:20240720T100000
DTEND;TZID=UTC:20240720T120000
DTSTAMP:20260421T234018
CREATED:20240630T201057Z
LAST-MODIFIED:20240630T201057Z
UID:5787-1721469600-1721476800@feldajengka3.nadi.my
SUMMARY:Kelas STEM & Kelas Komputer
DESCRIPTION:– Aktiviti STEM (Tayangan Video & Praktikal) \n– Klik dengan Bijak (Penyalahgunaan Media Sosial)  \n– Kelas Komputer (Ms Word & Powerpoint)
URL:https://feldajengka3.nadi.my/event/kelas-stem-kelas-komputer-3/
LOCATION:NADI Felda Jengka 3\, NADI Felda Jengka 3
CATEGORIES:DEFAULT
END:VEVENT
BEGIN:VEVENT
DTSTART;TZID=UTC:20240719T100000
DTEND;TZID=UTC:20240719T120000
DTSTAMP:20260421T234018
CREATED:20240630T201524Z
LAST-MODIFIED:20240630T201524Z
UID:5795-1721383200-1721390400@feldajengka3.nadi.my
SUMMARY:Kelas ICT
DESCRIPTION:· Promosi NADI \n– Ms Office (Word & Publisher) \n– Ekerajaan\, Gmail\, FB dll
URL:https://feldajengka3.nadi.my/event/kelas-ict-11/
LOCATION:NADI Felda Jengka 3\, NADI Felda Jengka 3
CATEGORIES:DEFAULT
END:VEVENT
BEGIN:VEVENT
DTSTART;TZID=UTC:20240718T100000
DTEND;TZID=UTC:20240718T120000
DTSTAMP:20260421T234018
CREATED:20240630T200944Z
LAST-MODIFIED:20240630T200944Z
UID:5783-1721296800-1721304000@feldajengka3.nadi.my
SUMMARY:Kelas ICT
DESCRIPTION:· Promosi NADI \n– Ms Office (Word & Powerpoint) \n– Ekerajaan\, Gmail\, FB dll
URL:https://feldajengka3.nadi.my/event/kelas-ict-7/
LOCATION:NADI Felda Jengka 3\, NADI Felda Jengka 3
CATEGORIES:DEFAULT
END:VEVENT
BEGIN:VEVENT
DTSTART;TZID=UTC:20240716T100000
DTEND;TZID=UTC:20240716T120000
DTSTAMP:20260421T234018
CREATED:20240630T200711Z
LAST-MODIFIED:20240630T200711Z
UID:5779-1721124000-1721131200@feldajengka3.nadi.my
SUMMARY:Kelas Soft Skills
DESCRIPTION:· Promosi NADI \n– Kelas Soft Skills (Resume – Microsoft Word @ Canva) \n– Klik dengan Bijak (Bagaimana Anda Boleh Melindungi Data Peribadi Anda)  \n 
URL:https://feldajengka3.nadi.my/event/kelas-soft-skills-7/
LOCATION:NADI Felda Jengka 3\, NADI Felda Jengka 3
CATEGORIES:DEFAULT
END:VEVENT
END:VCALENDAR