BEGIN:VCALENDAR
VERSION:2.0
PRODID:-//NADI Felda Jengka 3 - ECPv6.15.13.1//NONSGML v1.0//EN
CALSCALE:GREGORIAN
METHOD:PUBLISH
X-WR-CALNAME:NADI Felda Jengka 3
X-ORIGINAL-URL:https://feldajengka3.nadi.my
X-WR-CALDESC:Events for NADI Felda Jengka 3
REFRESH-INTERVAL;VALUE=DURATION:PT1H
X-Robots-Tag:noindex
X-PUBLISHED-TTL:PT1H
BEGIN:VTIMEZONE
TZID:UTC
BEGIN:STANDARD
TZOFFSETFROM:+0000
TZOFFSETTO:+0000
TZNAME:UTC
DTSTART:20230101T000000
END:STANDARD
END:VTIMEZONE
BEGIN:VEVENT
DTSTART;TZID=UTC:20240910T100000
DTEND;TZID=UTC:20240910T120000
DTSTAMP:20260420T162640
CREATED:20240901T225831Z
LAST-MODIFIED:20240901T225831Z
UID:5833-1725962400-1725969600@feldajengka3.nadi.my
SUMMARY:Kelas Soft Skills
DESCRIPTION:Kelas Soft Skills \n– Kelas Resume \n– Kelas Grooming \n– Kelas Kemahiran Temuduga \n– Pengurusan Asas Kewangan
URL:https://feldajengka3.nadi.my/event/kelas-soft-skills-14/
LOCATION:NADI Felda Jengka 3\, NADI Felda Jengka 3
CATEGORIES:DEFAULT
END:VEVENT
BEGIN:VEVENT
DTSTART;TZID=UTC:20240909T100000
DTEND;TZID=UTC:20240909T170000
DTSTAMP:20260420T162640
CREATED:20240901T225712Z
LAST-MODIFIED:20240901T225712Z
UID:5828-1725876000-1725901200@feldajengka3.nadi.my
SUMMARY:Promosi NADI & Klik dengan Bijak
DESCRIPTION:Promosi – Hebahan Perkhidmatan\, Program\, Aktiviti\, Kelas/Latihan \nKDB – Terlebih Kongsi \nKDB – Pengantunan Dalam Talian Di kalangan Remaja \nKDB – Buli Siber dan Kawalan Kendiri \nKDB – Perlindungan Kanak-Kanak
URL:https://feldajengka3.nadi.my/event/promosi-nadi-klik-dengan-bijak-11/
LOCATION:NADI Felda Jengka 3\, NADI Felda Jengka 3
CATEGORIES:DEFAULT
END:VEVENT
BEGIN:VEVENT
DTSTART;TZID=UTC:20240908T100000
DTEND;TZID=UTC:20240908T120000
DTSTAMP:20260420T162640
CREATED:20240901T230720Z
LAST-MODIFIED:20240901T230720Z
UID:5853-1725789600-1725796800@feldajengka3.nadi.my
SUMMARY:e-Pembelajaran
DESCRIPTION:– E-learning (Word Search online\, Puzzle online\, Quizizz) \n· Kelas Komputer (Ms Word & Powerpoint) \n– Aplikasi Pembelajaran\, Permainan Pembelajaran  \n-Tutoriol\, Kuiz \n-e-sport Mobile Legend 
URL:https://feldajengka3.nadi.my/event/e-pembelajaran-6/
LOCATION:NADI Felda Jengka 3\, NADI Felda Jengka 3
CATEGORIES:DEFAULT
END:VEVENT
BEGIN:VEVENT
DTSTART;TZID=UTC:20240907T100000
DTEND;TZID=UTC:20240907T120000
DTSTAMP:20260420T162640
CREATED:20240901T230447Z
LAST-MODIFIED:20240901T230447Z
UID:5848-1725703200-1725710400@feldajengka3.nadi.my
SUMMARY:Kelas ICT & e-Sport
DESCRIPTION:– Kelas Komputer (Ms Word & Publisher) \n– Kelas ICT – pengenalan komputer & internet\n \n– e-Sport – Mobile Legend
URL:https://feldajengka3.nadi.my/event/kelas-ict-e-sport/
LOCATION:NADI Felda Jengka 3\, NADI Felda Jengka 3
CATEGORIES:DEFAULT
END:VEVENT
BEGIN:VEVENT
DTSTART;TZID=UTC:20240906T100000
DTEND;TZID=UTC:20240906T170000
DTSTAMP:20260420T162640
CREATED:20240901T230307Z
LAST-MODIFIED:20240901T230307Z
UID:5844-1725616800-1725642000@feldajengka3.nadi.my
SUMMARY:Promosi NADI & Klik dengan Bijak
DESCRIPTION:Promosi – Hebahan Perkhidmatan\, Program\, Aktiviti\, Kelas/Latihan \nKDB – Terlebih Kongsi Maklumat dan Phishing \nKDB – Dedah Membawa Padah \nKDB – Penyalahgunaan Media Sosial \nKDB – Sikap Terlebih Kongsi
URL:https://feldajengka3.nadi.my/event/promosi-nadi-klik-dengan-bijak-15/
LOCATION:NADI Felda Jengka 3\, NADI Felda Jengka 3
CATEGORIES:DEFAULT
END:VEVENT
BEGIN:VEVENT
DTSTART;TZID=UTC:20240905T100000
DTEND;TZID=UTC:20240905T120000
DTSTAMP:20260420T162640
CREATED:20240901T230200Z
LAST-MODIFIED:20240901T230200Z
UID:5840-1725530400-1725537600@feldajengka3.nadi.my
SUMMARY:Kelas Keusahawanan
DESCRIPTION:– Microsoft Office (word\, excel\, publisher\,p.point) \n– Kemahiran Keusahawanan & Sosial Media \n– Perniagaan & PemasaranSecara Online (shopee\, lazada) \n– Asas Media Baru (Instagram\, FB\, TwitterX\, Tiktok) \n– Perbankan Online
URL:https://feldajengka3.nadi.my/event/kelas-keusahawanan-130/
LOCATION:NADI Felda Jengka 3\, NADI Felda Jengka 3
CATEGORIES:DEFAULT
END:VEVENT
BEGIN:VEVENT
DTSTART;TZID=UTC:20240904T100000
DTEND;TZID=UTC:20240904T120000
DTSTAMP:20260420T162640
CREATED:20240901T230014Z
LAST-MODIFIED:20240901T230014Z
UID:5836-1725444000-1725451200@feldajengka3.nadi.my
SUMMARY:Kelas Komputer & ICT
DESCRIPTION:– Pengenalan kepada Komputer & Internet  \n– Microsoft Office (word\, excel\, publisher\, p.point)
URL:https://feldajengka3.nadi.my/event/kelas-komputer-ict-5/
LOCATION:NADI Felda Jengka 3\, NADI Felda Jengka 3
CATEGORIES:DEFAULT
END:VEVENT
BEGIN:VEVENT
DTSTART;TZID=UTC:20240903T100000
DTEND;TZID=UTC:20240903T120000
DTSTAMP:20260420T162640
CREATED:20240901T225831Z
LAST-MODIFIED:20240901T225831Z
UID:5832-1725357600-1725364800@feldajengka3.nadi.my
SUMMARY:Kelas Soft Skills
DESCRIPTION:Kelas Soft Skills \n– Kelas Resume \n– Kelas Grooming \n– Kelas Kemahiran Temuduga \n– Pengurusan Asas Kewangan
URL:https://feldajengka3.nadi.my/event/kelas-soft-skills-13/
LOCATION:NADI Felda Jengka 3\, NADI Felda Jengka 3
CATEGORIES:DEFAULT
END:VEVENT
BEGIN:VEVENT
DTSTART;TZID=UTC:20240902T100000
DTEND;TZID=UTC:20240902T170000
DTSTAMP:20260420T162640
CREATED:20240901T225712Z
LAST-MODIFIED:20240901T225712Z
UID:5827-1725271200-1725296400@feldajengka3.nadi.my
SUMMARY:Promosi NADI & Klik dengan Bijak
DESCRIPTION:Promosi – Hebahan Perkhidmatan\, Program\, Aktiviti\, Kelas/Latihan \nKDB – Terlebih Kongsi \nKDB – Pengantunan Dalam Talian Di kalangan Remaja \nKDB – Buli Siber dan Kawalan Kendiri \nKDB – Perlindungan Kanak-Kanak
URL:https://feldajengka3.nadi.my/event/promosi-nadi-klik-dengan-bijak-10/
LOCATION:NADI Felda Jengka 3\, NADI Felda Jengka 3
CATEGORIES:DEFAULT
END:VEVENT
BEGIN:VEVENT
DTSTART;TZID=UTC:20240901T100000
DTEND;TZID=UTC:20240901T120000
DTSTAMP:20260420T162640
CREATED:20240901T230720Z
LAST-MODIFIED:20240901T230720Z
UID:5852-1725184800-1725192000@feldajengka3.nadi.my
SUMMARY:e-Pembelajaran
DESCRIPTION:– E-learning (Word Search online\, Puzzle online\, Quizizz) \n· Kelas Komputer (Ms Word & Powerpoint) \n– Aplikasi Pembelajaran\, Permainan Pembelajaran  \n-Tutoriol\, Kuiz \n-e-sport Mobile Legend 
URL:https://feldajengka3.nadi.my/event/e-pembelajaran-5/
LOCATION:NADI Felda Jengka 3\, NADI Felda Jengka 3
CATEGORIES:DEFAULT
END:VEVENT
BEGIN:VEVENT
DTSTART;TZID=UTC:20240830T100000
DTEND;TZID=UTC:20240830T170000
DTSTAMP:20260420T162640
CREATED:20240731T184051Z
LAST-MODIFIED:20240731T184051Z
UID:5821-1725012000-1725037200@feldajengka3.nadi.my
SUMMARY:Promosi NADI & Klik dengan Bijak
DESCRIPTION:Promosi – Hebahan Perkhidmatan\, Program\, Aktiviti\, Kelas/Latihan \nKDB – teknologi & anda\, aspirasi digital \nKDB – aduan & maklumat palsu \nKDB – buli siber\, penipuan kewangan \nKDB – mobile eWaste\, check your label
URL:https://feldajengka3.nadi.my/event/promosi-nadi-klik-dengan-bijak-9/
LOCATION:NADI Felda Jengka 3\, NADI Felda Jengka 3
CATEGORIES:DEFAULT
END:VEVENT
BEGIN:VEVENT
DTSTART;TZID=UTC:20240829T100000
DTEND;TZID=UTC:20240829T120000
DTSTAMP:20260420T162640
CREATED:20240630T200827Z
LAST-MODIFIED:20240630T200827Z
UID:5825-1724925600-1724932800@feldajengka3.nadi.my
SUMMARY:Kelas Keusahawanan
DESCRIPTION:– Microsoft Office (word\, excel\, publisher\,p.point) \n– Kemahiran Keusahawanan & Sosial Media) \n– Perniagaan & PemasaranSecara Online (shopee\, lazada) \n– Asas Media Baru (Instagram\, FB\, TwitterX\, Tiktok) \n– Perbankan Online \n 
URL:https://feldajengka3.nadi.my/event/kelas-keusahawanan-128/
LOCATION:NADI Felda Jengka 3\, NADI Felda Jengka 3
CATEGORIES:DEFAULT
END:VEVENT
BEGIN:VEVENT
DTSTART;TZID=UTC:20240828T100000
DTEND;TZID=UTC:20240828T120000
DTSTAMP:20260420T162640
CREATED:20240731T191348Z
LAST-MODIFIED:20240731T191348Z
UID:5816-1724839200-1724846400@feldajengka3.nadi.my
SUMMARY:Kelas Komputer & ICT
DESCRIPTION:– Pengenalan kepada Komputer & Internet  \n– Microsoft Office (word\, excel\, publisher\, p.point)
URL:https://feldajengka3.nadi.my/event/kelas-komputer-ict-4/
CATEGORIES:DEFAULT
END:VEVENT
BEGIN:VEVENT
DTSTART;TZID=UTC:20240827T100000
DTEND;TZID=UTC:20240827T120000
DTSTAMP:20260420T162640
CREATED:20240630T201328Z
LAST-MODIFIED:20240630T201328Z
UID:5812-1724752800-1724760000@feldajengka3.nadi.my
SUMMARY:Kelas Soft Skills
DESCRIPTION:– Kelas Resume \n– Kelas Grooming \n– Kelas Kemahiran Temuduga \n– Pengurusan Asas Kewangan \n 
URL:https://feldajengka3.nadi.my/event/kelas-soft-skills-12/
LOCATION:NADI Felda Jengka 3\, NADI Felda Jengka 3
CATEGORIES:DEFAULT
END:VEVENT
BEGIN:VEVENT
DTSTART;TZID=UTC:20240826T100000
DTEND;TZID=UTC:20240826T170000
DTSTAMP:20260420T162640
CREATED:20240731T184051Z
LAST-MODIFIED:20240731T184051Z
UID:5808-1724666400-1724691600@feldajengka3.nadi.my
SUMMARY:Promosi NADI & Klik dengan Bijak
DESCRIPTION:Promosi – Hebahan Perkhidmatan\, Program\, Aktiviti\, Kelas/Latihan \nKDB – teknologi & anda\, aspirasi digital \nKDB – aduan & maklumat palsu \nKDB – buli siber\, penipuan kewangan \nKDB – mobile eWaste\, check your label
URL:https://feldajengka3.nadi.my/event/promosi-nadi-klik-dengan-bijak-4/
LOCATION:NADI Felda Jengka 3\, NADI Felda Jengka 3
CATEGORIES:DEFAULT
END:VEVENT
BEGIN:VEVENT
DTSTART;TZID=UTC:20240825T100000
DTEND;TZID=UTC:20240825T120000
DTSTAMP:20260420T162640
CREATED:20240731T183134Z
LAST-MODIFIED:20240731T183134Z
UID:5804-1724580000-1724587200@feldajengka3.nadi.my
SUMMARY:e-Pembelajaran
DESCRIPTION:– Aplikasi Pembelajaran\, Permainan Pembelajaran  \n-Tutoriol\, Kuiz
URL:https://feldajengka3.nadi.my/event/e-pembelajaran-4/
LOCATION:NADI Felda Jengka 3\, NADI Felda Jengka 3
CATEGORIES:DEFAULT
END:VEVENT
BEGIN:VEVENT
DTSTART;TZID=UTC:20240824T100000
DTEND;TZID=UTC:20240824T120000
DTSTAMP:20260420T162640
CREATED:20240731T182805Z
LAST-MODIFIED:20240731T182805Z
UID:5800-1724493600-1724500800@feldajengka3.nadi.my
SUMMARY:Kelas ICT & Aktiviti STEM
DESCRIPTION:Kelas ICT – pengenalan komputer & internet\n \nAktiviti STEM – Asas IoT\, Robotic\n 
URL:https://feldajengka3.nadi.my/event/kelas-ict-aktiviti-stem-4/
LOCATION:NADI Felda Jengka 3\, NADI Felda Jengka 3
CATEGORIES:DEFAULT
END:VEVENT
BEGIN:VEVENT
DTSTART;TZID=UTC:20240823T100000
DTEND;TZID=UTC:20240823T170000
DTSTAMP:20260420T162640
CREATED:20240731T184051Z
LAST-MODIFIED:20240731T184051Z
UID:5820-1724407200-1724432400@feldajengka3.nadi.my
SUMMARY:Promosi NADI & Klik dengan Bijak
DESCRIPTION:Promosi – Hebahan Perkhidmatan\, Program\, Aktiviti\, Kelas/Latihan \nKDB – teknologi & anda\, aspirasi digital \nKDB – aduan & maklumat palsu \nKDB – buli siber\, penipuan kewangan \nKDB – mobile eWaste\, check your label
URL:https://feldajengka3.nadi.my/event/promosi-nadi-klik-dengan-bijak-8/
LOCATION:NADI Felda Jengka 3\, NADI Felda Jengka 3
CATEGORIES:DEFAULT
END:VEVENT
BEGIN:VEVENT
DTSTART;TZID=UTC:20240822T100000
DTEND;TZID=UTC:20240822T120000
DTSTAMP:20260420T162640
CREATED:20240630T200827Z
LAST-MODIFIED:20240630T200827Z
UID:5824-1724320800-1724328000@feldajengka3.nadi.my
SUMMARY:Kelas Keusahawanan
DESCRIPTION:– Microsoft Office (word\, excel\, publisher\,p.point) \n– Kemahiran Keusahawanan & Sosial Media) \n– Perniagaan & PemasaranSecara Online (shopee\, lazada) \n– Asas Media Baru (Instagram\, FB\, TwitterX\, Tiktok) \n– Perbankan Online \n 
URL:https://feldajengka3.nadi.my/event/kelas-keusahawanan-127/
LOCATION:NADI Felda Jengka 3\, NADI Felda Jengka 3
CATEGORIES:DEFAULT
END:VEVENT
BEGIN:VEVENT
DTSTART;TZID=UTC:20240821T100000
DTEND;TZID=UTC:20240821T120000
DTSTAMP:20260420T162640
CREATED:20240731T191348Z
LAST-MODIFIED:20240731T191348Z
UID:5815-1724234400-1724241600@feldajengka3.nadi.my
SUMMARY:Kelas Komputer & ICT
DESCRIPTION:– Pengenalan kepada Komputer & Internet  \n– Microsoft Office (word\, excel\, publisher\, p.point)
URL:https://feldajengka3.nadi.my/event/kelas-komputer-ict-3/
CATEGORIES:DEFAULT
END:VEVENT
BEGIN:VEVENT
DTSTART;TZID=UTC:20240820T100000
DTEND;TZID=UTC:20240820T120000
DTSTAMP:20260420T162640
CREATED:20240630T201328Z
LAST-MODIFIED:20240630T201328Z
UID:5811-1724148000-1724155200@feldajengka3.nadi.my
SUMMARY:Kelas Soft Skills
DESCRIPTION:– Kelas Resume \n– Kelas Grooming \n– Kelas Kemahiran Temuduga \n– Pengurusan Asas Kewangan \n 
URL:https://feldajengka3.nadi.my/event/kelas-soft-skills-11/
LOCATION:NADI Felda Jengka 3\, NADI Felda Jengka 3
CATEGORIES:DEFAULT
END:VEVENT
BEGIN:VEVENT
DTSTART;TZID=UTC:20240819T100000
DTEND;TZID=UTC:20240819T170000
DTSTAMP:20260420T162640
CREATED:20240731T184051Z
LAST-MODIFIED:20240731T184051Z
UID:5807-1724061600-1724086800@feldajengka3.nadi.my
SUMMARY:Promosi NADI & Klik dengan Bijak
DESCRIPTION:Promosi – Hebahan Perkhidmatan\, Program\, Aktiviti\, Kelas/Latihan \nKDB – teknologi & anda\, aspirasi digital \nKDB – aduan & maklumat palsu \nKDB – buli siber\, penipuan kewangan \nKDB – mobile eWaste\, check your label
URL:https://feldajengka3.nadi.my/event/promosi-nadi-klik-dengan-bijak-3/
LOCATION:NADI Felda Jengka 3\, NADI Felda Jengka 3
CATEGORIES:DEFAULT
END:VEVENT
BEGIN:VEVENT
DTSTART;TZID=UTC:20240818T100000
DTEND;TZID=UTC:20240818T120000
DTSTAMP:20260420T162640
CREATED:20240731T183134Z
LAST-MODIFIED:20240731T183134Z
UID:5803-1723975200-1723982400@feldajengka3.nadi.my
SUMMARY:e-Pembelajaran
DESCRIPTION:– Aplikasi Pembelajaran\, Permainan Pembelajaran  \n-Tutoriol\, Kuiz
URL:https://feldajengka3.nadi.my/event/e-pembelajaran-3/
LOCATION:NADI Felda Jengka 3\, NADI Felda Jengka 3
CATEGORIES:DEFAULT
END:VEVENT
BEGIN:VEVENT
DTSTART;TZID=UTC:20240817T100000
DTEND;TZID=UTC:20240817T120000
DTSTAMP:20260420T162640
CREATED:20240731T182805Z
LAST-MODIFIED:20240731T182805Z
UID:5799-1723888800-1723896000@feldajengka3.nadi.my
SUMMARY:Kelas ICT & Aktiviti STEM
DESCRIPTION:Kelas ICT – pengenalan komputer & internet\n \nAktiviti STEM – Asas IoT\, Robotic\n 
URL:https://feldajengka3.nadi.my/event/kelas-ict-aktiviti-stem-3/
LOCATION:NADI Felda Jengka 3\, NADI Felda Jengka 3
CATEGORIES:DEFAULT
END:VEVENT
BEGIN:VEVENT
DTSTART;TZID=UTC:20240816T100000
DTEND;TZID=UTC:20240816T170000
DTSTAMP:20260420T162640
CREATED:20240731T184051Z
LAST-MODIFIED:20240731T184051Z
UID:5819-1723802400-1723827600@feldajengka3.nadi.my
SUMMARY:Promosi NADI & Klik dengan Bijak
DESCRIPTION:Promosi – Hebahan Perkhidmatan\, Program\, Aktiviti\, Kelas/Latihan \nKDB – teknologi & anda\, aspirasi digital \nKDB – aduan & maklumat palsu \nKDB – buli siber\, penipuan kewangan \nKDB – mobile eWaste\, check your label
URL:https://feldajengka3.nadi.my/event/promosi-nadi-klik-dengan-bijak-7/
LOCATION:NADI Felda Jengka 3\, NADI Felda Jengka 3
CATEGORIES:DEFAULT
END:VEVENT
BEGIN:VEVENT
DTSTART;TZID=UTC:20240815T100000
DTEND;TZID=UTC:20240815T120000
DTSTAMP:20260420T162640
CREATED:20240630T200827Z
LAST-MODIFIED:20240630T200827Z
UID:5823-1723716000-1723723200@feldajengka3.nadi.my
SUMMARY:Kelas Keusahawanan
DESCRIPTION:– Microsoft Office (word\, excel\, publisher\,p.point) \n– Kemahiran Keusahawanan & Sosial Media) \n– Perniagaan & PemasaranSecara Online (shopee\, lazada) \n– Asas Media Baru (Instagram\, FB\, TwitterX\, Tiktok) \n– Perbankan Online \n 
URL:https://feldajengka3.nadi.my/event/kelas-keusahawanan-126/
LOCATION:NADI Felda Jengka 3\, NADI Felda Jengka 3
CATEGORIES:DEFAULT
END:VEVENT
BEGIN:VEVENT
DTSTART;TZID=UTC:20240814T100000
DTEND;TZID=UTC:20240814T120000
DTSTAMP:20260420T162640
CREATED:20240731T191348Z
LAST-MODIFIED:20240731T191348Z
UID:5814-1723629600-1723636800@feldajengka3.nadi.my
SUMMARY:Kelas Komputer & ICT
DESCRIPTION:– Pengenalan kepada Komputer & Internet  \n– Microsoft Office (word\, excel\, publisher\, p.point)
URL:https://feldajengka3.nadi.my/event/kelas-komputer-ict-2/
CATEGORIES:DEFAULT
END:VEVENT
BEGIN:VEVENT
DTSTART;TZID=UTC:20240813T100000
DTEND;TZID=UTC:20240813T120000
DTSTAMP:20260420T162640
CREATED:20240630T201328Z
LAST-MODIFIED:20240630T201328Z
UID:5810-1723543200-1723550400@feldajengka3.nadi.my
SUMMARY:Kelas Soft Skills
DESCRIPTION:– Kelas Resume \n– Kelas Grooming \n– Kelas Kemahiran Temuduga \n– Pengurusan Asas Kewangan \n 
URL:https://feldajengka3.nadi.my/event/kelas-soft-skills-10/
LOCATION:NADI Felda Jengka 3\, NADI Felda Jengka 3
CATEGORIES:DEFAULT
END:VEVENT
BEGIN:VEVENT
DTSTART;TZID=UTC:20240812T100000
DTEND;TZID=UTC:20240812T170000
DTSTAMP:20260420T162640
CREATED:20240731T184051Z
LAST-MODIFIED:20240731T184051Z
UID:5806-1723456800-1723482000@feldajengka3.nadi.my
SUMMARY:Promosi NADI & Klik dengan Bijak
DESCRIPTION:Promosi – Hebahan Perkhidmatan\, Program\, Aktiviti\, Kelas/Latihan \nKDB – teknologi & anda\, aspirasi digital \nKDB – aduan & maklumat palsu \nKDB – buli siber\, penipuan kewangan \nKDB – mobile eWaste\, check your label
URL:https://feldajengka3.nadi.my/event/promosi-nadi-klik-dengan-bijak-2/
LOCATION:NADI Felda Jengka 3\, NADI Felda Jengka 3
CATEGORIES:DEFAULT
END:VEVENT
BEGIN:VEVENT
DTSTART;TZID=UTC:20240811T100000
DTEND;TZID=UTC:20240811T120000
DTSTAMP:20260420T162640
CREATED:20240731T183134Z
LAST-MODIFIED:20240731T183134Z
UID:5802-1723370400-1723377600@feldajengka3.nadi.my
SUMMARY:e-Pembelajaran
DESCRIPTION:– Aplikasi Pembelajaran\, Permainan Pembelajaran  \n-Tutoriol\, Kuiz
URL:https://feldajengka3.nadi.my/event/e-pembelajaran-2/
LOCATION:NADI Felda Jengka 3\, NADI Felda Jengka 3
CATEGORIES:DEFAULT
END:VEVENT
END:VCALENDAR