BEGIN:VCALENDAR
VERSION:2.0
PRODID:-//NADI Felda Jengka 3 - ECPv6.15.13.1//NONSGML v1.0//EN
CALSCALE:GREGORIAN
METHOD:PUBLISH
X-WR-CALNAME:NADI Felda Jengka 3
X-ORIGINAL-URL:https://feldajengka3.nadi.my
X-WR-CALDESC:Events for NADI Felda Jengka 3
REFRESH-INTERVAL;VALUE=DURATION:PT1H
X-Robots-Tag:noindex
X-PUBLISHED-TTL:PT1H
BEGIN:VTIMEZONE
TZID:UTC
BEGIN:STANDARD
TZOFFSETFROM:+0000
TZOFFSETTO:+0000
TZNAME:UTC
DTSTART:20230101T000000
END:STANDARD
END:VTIMEZONE
BEGIN:VEVENT
DTSTART;TZID=UTC:20241010T100000
DTEND;TZID=UTC:20241010T120000
DTSTAMP:20260420T000130
CREATED:20240930T201657Z
LAST-MODIFIED:20240930T201657Z
UID:5872-1728554400-1728561600@feldajengka3.nadi.my
SUMMARY:Kelas Keusahawanan
DESCRIPTION:– Microsoft Office (word\, excel\, publisher\,p.point) \n– Kemahiran Keusahawanan & Media Sosial \n– Perniagaan & PemasaranSecara Online (shopee\, lazada) \n– Asas Media Baru (Instagram\, FB\, TwitterX\, Tiktok) \n– Perbankan Online
URL:https://feldajengka3.nadi.my/event/kelas-keusahawanan-135/
LOCATION:NADI Felda Jengka 3\, NADI Felda Jengka 3
CATEGORIES:DEFAULT
END:VEVENT
BEGIN:VEVENT
DTSTART;TZID=UTC:20241009T100000
DTEND;TZID=UTC:20241009T120000
DTSTAMP:20260420T000130
CREATED:20240930T201516Z
LAST-MODIFIED:20240930T201516Z
UID:5867-1728468000-1728475200@feldajengka3.nadi.my
SUMMARY:Kelas Komputer & ICT
DESCRIPTION:– Pengenalan kepada Komputer & Internet  \n– Microsoft Office (word\, excel\, publisher\, p.point)
URL:https://feldajengka3.nadi.my/event/kelas-komputer-ict-10/
LOCATION:NADI Felda Jengka 3\, NADI Felda Jengka 3
CATEGORIES:DEFAULT
END:VEVENT
BEGIN:VEVENT
DTSTART;TZID=UTC:20241008T100000
DTEND;TZID=UTC:20241008T120000
DTSTAMP:20260420T000130
CREATED:20240930T201403Z
LAST-MODIFIED:20240930T201403Z
UID:5862-1728381600-1728388800@feldajengka3.nadi.my
SUMMARY:Kelas Soft Skills
DESCRIPTION:Kelas Soft Skills \n– Kelas Resume \n– Kelas Grooming \n– Kelas Kemahiran Temuduga \n– Pengurusan Asas Kewangan
URL:https://feldajengka3.nadi.my/event/kelas-soft-skills-18/
LOCATION:NADI Felda Jengka 3\, NADI Felda Jengka 3
CATEGORIES:DEFAULT
END:VEVENT
BEGIN:VEVENT
DTSTART;TZID=UTC:20241007T100000
DTEND;TZID=UTC:20241007T120000
DTSTAMP:20260420T000130
CREATED:20240930T201259Z
LAST-MODIFIED:20240930T201259Z
UID:5857-1728295200-1728302400@feldajengka3.nadi.my
SUMMARY:Promosi NADI & Klik dengan Bijak
DESCRIPTION:Promosi – Hebahan Perkhidmatan\, Program\, Aktiviti\, Kelas/Latihan \nKDB – Dedah Membawa Padah \nKDB – Penyalahgunaan Dalam Media Sosial \nKDB – Taktik-taktik Penipuan Dalam Talian \nKDB – Keselamatan Siber
URL:https://feldajengka3.nadi.my/event/promosi-nadi-klik-dengan-bijak-19/
LOCATION:NADI Felda Jengka 3\, NADI Felda Jengka 3
CATEGORIES:DEFAULT
END:VEVENT
BEGIN:VEVENT
DTSTART;TZID=UTC:20241006T100000
DTEND;TZID=UTC:20241006T120000
DTSTAMP:20260420T000130
CREATED:20240930T202040Z
LAST-MODIFIED:20240930T202040Z
UID:5883-1728208800-1728216000@feldajengka3.nadi.my
SUMMARY:e-Pembelajaran
DESCRIPTION:– E-learning (Word Search online\, Puzzle online\, Quizizz) \n· Kelas Komputer (Ms Word & Publisher) \n– Aplikasi Pembelajaran\, Permainan Pembelajaran  \n-Tutoriol\, Kuiz \n-e-sport Mobile Legend 
URL:https://feldajengka3.nadi.my/event/e-pembelajaran-10/
LOCATION:NADI Felda Jengka 3\, NADI Felda Jengka 3
CATEGORIES:DEFAULT
END:VEVENT
BEGIN:VEVENT
DTSTART;TZID=UTC:20241005T100000
DTEND;TZID=UTC:20241005T120000
DTSTAMP:20260420T000130
CREATED:20240930T201902Z
LAST-MODIFIED:20240930T201902Z
UID:5879-1728122400-1728129600@feldajengka3.nadi.my
SUMMARY:Kelas ICT & e-Sport
DESCRIPTION:– Kelas Komputer (Ms Word & Powerpoint) \n– Kelas ICT – pengenalan komputer & internet\n \n– e-Sport – Mobile Legend
URL:https://feldajengka3.nadi.my/event/kelas-ict-e-sport-5/
LOCATION:NADI Felda Jengka 3\, NADI Felda Jengka 3
CATEGORIES:DEFAULT
END:VEVENT
BEGIN:VEVENT
DTSTART;TZID=UTC:20241004T100000
DTEND;TZID=UTC:20241004T120000
DTSTAMP:20260420T000130
CREATED:20240930T201804Z
LAST-MODIFIED:20240930T201804Z
UID:5875-1728036000-1728043200@feldajengka3.nadi.my
SUMMARY:Promosi NADI & Klik dengan Bijak
DESCRIPTION:Promosi – Hebahan Perkhidmatan\, Program\, Aktiviti\, Kelas/Latihan \nKDB – Pengantunan Dalam Talian Di kalangan Remaja \nKDB – Keselamatan Anda di Hujung Jari \nKDB – Terlebih Kongsi \nKDB – Buli Siber
URL:https://feldajengka3.nadi.my/event/promosi-nadi-klik-dengan-bijak-23/
LOCATION:NADI Felda Jengka 3\, NADI Felda Jengka 3
CATEGORIES:DEFAULT
END:VEVENT
BEGIN:VEVENT
DTSTART;TZID=UTC:20241003T100000
DTEND;TZID=UTC:20241003T120000
DTSTAMP:20260420T000130
CREATED:20240930T201657Z
LAST-MODIFIED:20240930T201657Z
UID:5871-1727949600-1727956800@feldajengka3.nadi.my
SUMMARY:Kelas Keusahawanan
DESCRIPTION:– Microsoft Office (word\, excel\, publisher\,p.point) \n– Kemahiran Keusahawanan & Media Sosial \n– Perniagaan & PemasaranSecara Online (shopee\, lazada) \n– Asas Media Baru (Instagram\, FB\, TwitterX\, Tiktok) \n– Perbankan Online
URL:https://feldajengka3.nadi.my/event/kelas-keusahawanan-134/
LOCATION:NADI Felda Jengka 3\, NADI Felda Jengka 3
CATEGORIES:DEFAULT
END:VEVENT
BEGIN:VEVENT
DTSTART;TZID=UTC:20241002T100000
DTEND;TZID=UTC:20241002T120000
DTSTAMP:20260420T000130
CREATED:20240930T201516Z
LAST-MODIFIED:20240930T201516Z
UID:5866-1727863200-1727870400@feldajengka3.nadi.my
SUMMARY:Kelas Komputer & ICT
DESCRIPTION:– Pengenalan kepada Komputer & Internet  \n– Microsoft Office (word\, excel\, publisher\, p.point)
URL:https://feldajengka3.nadi.my/event/kelas-komputer-ict-9/
LOCATION:NADI Felda Jengka 3\, NADI Felda Jengka 3
CATEGORIES:DEFAULT
END:VEVENT
BEGIN:VEVENT
DTSTART;TZID=UTC:20241001T100000
DTEND;TZID=UTC:20241001T120000
DTSTAMP:20260420T000130
CREATED:20240930T201403Z
LAST-MODIFIED:20240930T201403Z
UID:5861-1727776800-1727784000@feldajengka3.nadi.my
SUMMARY:Kelas Soft Skills
DESCRIPTION:Kelas Soft Skills \n– Kelas Resume \n– Kelas Grooming \n– Kelas Kemahiran Temuduga \n– Pengurusan Asas Kewangan
URL:https://feldajengka3.nadi.my/event/kelas-soft-skills-17/
LOCATION:NADI Felda Jengka 3\, NADI Felda Jengka 3
CATEGORIES:DEFAULT
END:VEVENT
BEGIN:VEVENT
DTSTART;TZID=UTC:20240930T100000
DTEND;TZID=UTC:20240930T170000
DTSTAMP:20260420T000130
CREATED:20240901T225712Z
LAST-MODIFIED:20240901T225712Z
UID:5831-1727690400-1727715600@feldajengka3.nadi.my
SUMMARY:Promosi NADI & Klik dengan Bijak
DESCRIPTION:Promosi – Hebahan Perkhidmatan\, Program\, Aktiviti\, Kelas/Latihan \nKDB – Terlebih Kongsi \nKDB – Pengantunan Dalam Talian Di kalangan Remaja \nKDB – Buli Siber dan Kawalan Kendiri \nKDB – Perlindungan Kanak-Kanak
URL:https://feldajengka3.nadi.my/event/promosi-nadi-klik-dengan-bijak-14/
LOCATION:NADI Felda Jengka 3\, NADI Felda Jengka 3
CATEGORIES:DEFAULT
END:VEVENT
BEGIN:VEVENT
DTSTART;TZID=UTC:20240929T100000
DTEND;TZID=UTC:20240929T120000
DTSTAMP:20260420T000130
CREATED:20240901T230720Z
LAST-MODIFIED:20240901T230720Z
UID:5856-1727604000-1727611200@feldajengka3.nadi.my
SUMMARY:e-Pembelajaran
DESCRIPTION:– E-learning (Word Search online\, Puzzle online\, Quizizz) \n· Kelas Komputer (Ms Word & Powerpoint) \n– Aplikasi Pembelajaran\, Permainan Pembelajaran  \n-Tutoriol\, Kuiz \n-e-sport Mobile Legend 
URL:https://feldajengka3.nadi.my/event/e-pembelajaran-9/
LOCATION:NADI Felda Jengka 3\, NADI Felda Jengka 3
CATEGORIES:DEFAULT
END:VEVENT
BEGIN:VEVENT
DTSTART;TZID=UTC:20240928T100000
DTEND;TZID=UTC:20240928T120000
DTSTAMP:20260420T000130
CREATED:20240901T230447Z
LAST-MODIFIED:20240901T230447Z
UID:5851-1727517600-1727524800@feldajengka3.nadi.my
SUMMARY:Kelas ICT & e-Sport
DESCRIPTION:– Kelas Komputer (Ms Word & Publisher) \n– Kelas ICT – pengenalan komputer & internet\n \n– e-Sport – Mobile Legend
URL:https://feldajengka3.nadi.my/event/kelas-ict-e-sport-4/
LOCATION:NADI Felda Jengka 3\, NADI Felda Jengka 3
CATEGORIES:DEFAULT
END:VEVENT
BEGIN:VEVENT
DTSTART;TZID=UTC:20240927T100000
DTEND;TZID=UTC:20240927T170000
DTSTAMP:20260420T000130
CREATED:20240901T230307Z
LAST-MODIFIED:20240901T230307Z
UID:5847-1727431200-1727456400@feldajengka3.nadi.my
SUMMARY:Promosi NADI & Klik dengan Bijak
DESCRIPTION:Promosi – Hebahan Perkhidmatan\, Program\, Aktiviti\, Kelas/Latihan \nKDB – Terlebih Kongsi Maklumat dan Phishing \nKDB – Dedah Membawa Padah \nKDB – Penyalahgunaan Media Sosial \nKDB – Sikap Terlebih Kongsi
URL:https://feldajengka3.nadi.my/event/promosi-nadi-klik-dengan-bijak-18/
LOCATION:NADI Felda Jengka 3\, NADI Felda Jengka 3
CATEGORIES:DEFAULT
END:VEVENT
BEGIN:VEVENT
DTSTART;TZID=UTC:20240926T100000
DTEND;TZID=UTC:20240926T120000
DTSTAMP:20260420T000130
CREATED:20240901T230200Z
LAST-MODIFIED:20240901T230200Z
UID:5843-1727344800-1727352000@feldajengka3.nadi.my
SUMMARY:Kelas Keusahawanan
DESCRIPTION:– Microsoft Office (word\, excel\, publisher\,p.point) \n– Kemahiran Keusahawanan & Sosial Media \n– Perniagaan & PemasaranSecara Online (shopee\, lazada) \n– Asas Media Baru (Instagram\, FB\, TwitterX\, Tiktok) \n– Perbankan Online
URL:https://feldajengka3.nadi.my/event/kelas-keusahawanan-133/
LOCATION:NADI Felda Jengka 3\, NADI Felda Jengka 3
CATEGORIES:DEFAULT
END:VEVENT
BEGIN:VEVENT
DTSTART;TZID=UTC:20240925T100000
DTEND;TZID=UTC:20240925T120000
DTSTAMP:20260420T000130
CREATED:20240901T230014Z
LAST-MODIFIED:20240901T230014Z
UID:5839-1727258400-1727265600@feldajengka3.nadi.my
SUMMARY:Kelas Komputer & ICT
DESCRIPTION:– Pengenalan kepada Komputer & Internet  \n– Microsoft Office (word\, excel\, publisher\, p.point)
URL:https://feldajengka3.nadi.my/event/kelas-komputer-ict-8/
LOCATION:NADI Felda Jengka 3\, NADI Felda Jengka 3
CATEGORIES:DEFAULT
END:VEVENT
BEGIN:VEVENT
DTSTART;TZID=UTC:20240924T100000
DTEND;TZID=UTC:20240924T120000
DTSTAMP:20260420T000130
CREATED:20240901T225831Z
LAST-MODIFIED:20240901T225831Z
UID:5835-1727172000-1727179200@feldajengka3.nadi.my
SUMMARY:Kelas Soft Skills
DESCRIPTION:Kelas Soft Skills \n– Kelas Resume \n– Kelas Grooming \n– Kelas Kemahiran Temuduga \n– Pengurusan Asas Kewangan
URL:https://feldajengka3.nadi.my/event/kelas-soft-skills-16/
LOCATION:NADI Felda Jengka 3\, NADI Felda Jengka 3
CATEGORIES:DEFAULT
END:VEVENT
BEGIN:VEVENT
DTSTART;TZID=UTC:20240923T100000
DTEND;TZID=UTC:20240923T170000
DTSTAMP:20260420T000130
CREATED:20240901T225712Z
LAST-MODIFIED:20240901T225712Z
UID:5830-1727085600-1727110800@feldajengka3.nadi.my
SUMMARY:Promosi NADI & Klik dengan Bijak
DESCRIPTION:Promosi – Hebahan Perkhidmatan\, Program\, Aktiviti\, Kelas/Latihan \nKDB – Terlebih Kongsi \nKDB – Pengantunan Dalam Talian Di kalangan Remaja \nKDB – Buli Siber dan Kawalan Kendiri \nKDB – Perlindungan Kanak-Kanak
URL:https://feldajengka3.nadi.my/event/promosi-nadi-klik-dengan-bijak-13/
LOCATION:NADI Felda Jengka 3\, NADI Felda Jengka 3
CATEGORIES:DEFAULT
END:VEVENT
BEGIN:VEVENT
DTSTART;TZID=UTC:20240922T100000
DTEND;TZID=UTC:20240922T120000
DTSTAMP:20260420T000130
CREATED:20240901T230720Z
LAST-MODIFIED:20240901T230720Z
UID:5855-1726999200-1727006400@feldajengka3.nadi.my
SUMMARY:e-Pembelajaran
DESCRIPTION:– E-learning (Word Search online\, Puzzle online\, Quizizz) \n· Kelas Komputer (Ms Word & Powerpoint) \n– Aplikasi Pembelajaran\, Permainan Pembelajaran  \n-Tutoriol\, Kuiz \n-e-sport Mobile Legend 
URL:https://feldajengka3.nadi.my/event/e-pembelajaran-8/
LOCATION:NADI Felda Jengka 3\, NADI Felda Jengka 3
CATEGORIES:DEFAULT
END:VEVENT
BEGIN:VEVENT
DTSTART;TZID=UTC:20240921T100000
DTEND;TZID=UTC:20240921T120000
DTSTAMP:20260420T000130
CREATED:20240901T230447Z
LAST-MODIFIED:20240901T230447Z
UID:5850-1726912800-1726920000@feldajengka3.nadi.my
SUMMARY:Kelas ICT & e-Sport
DESCRIPTION:– Kelas Komputer (Ms Word & Publisher) \n– Kelas ICT – pengenalan komputer & internet\n \n– e-Sport – Mobile Legend
URL:https://feldajengka3.nadi.my/event/kelas-ict-e-sport-3/
LOCATION:NADI Felda Jengka 3\, NADI Felda Jengka 3
CATEGORIES:DEFAULT
END:VEVENT
BEGIN:VEVENT
DTSTART;TZID=UTC:20240920T100000
DTEND;TZID=UTC:20240920T170000
DTSTAMP:20260420T000130
CREATED:20240901T230307Z
LAST-MODIFIED:20240901T230307Z
UID:5846-1726826400-1726851600@feldajengka3.nadi.my
SUMMARY:Promosi NADI & Klik dengan Bijak
DESCRIPTION:Promosi – Hebahan Perkhidmatan\, Program\, Aktiviti\, Kelas/Latihan \nKDB – Terlebih Kongsi Maklumat dan Phishing \nKDB – Dedah Membawa Padah \nKDB – Penyalahgunaan Media Sosial \nKDB – Sikap Terlebih Kongsi
URL:https://feldajengka3.nadi.my/event/promosi-nadi-klik-dengan-bijak-17/
LOCATION:NADI Felda Jengka 3\, NADI Felda Jengka 3
CATEGORIES:DEFAULT
END:VEVENT
BEGIN:VEVENT
DTSTART;TZID=UTC:20240919T100000
DTEND;TZID=UTC:20240919T120000
DTSTAMP:20260420T000130
CREATED:20240901T230200Z
LAST-MODIFIED:20240901T230200Z
UID:5842-1726740000-1726747200@feldajengka3.nadi.my
SUMMARY:Kelas Keusahawanan
DESCRIPTION:– Microsoft Office (word\, excel\, publisher\,p.point) \n– Kemahiran Keusahawanan & Sosial Media \n– Perniagaan & PemasaranSecara Online (shopee\, lazada) \n– Asas Media Baru (Instagram\, FB\, TwitterX\, Tiktok) \n– Perbankan Online
URL:https://feldajengka3.nadi.my/event/kelas-keusahawanan-132/
LOCATION:NADI Felda Jengka 3\, NADI Felda Jengka 3
CATEGORIES:DEFAULT
END:VEVENT
BEGIN:VEVENT
DTSTART;TZID=UTC:20240918T100000
DTEND;TZID=UTC:20240918T120000
DTSTAMP:20260420T000130
CREATED:20240901T230014Z
LAST-MODIFIED:20240901T230014Z
UID:5838-1726653600-1726660800@feldajengka3.nadi.my
SUMMARY:Kelas Komputer & ICT
DESCRIPTION:– Pengenalan kepada Komputer & Internet  \n– Microsoft Office (word\, excel\, publisher\, p.point)
URL:https://feldajengka3.nadi.my/event/kelas-komputer-ict-7/
LOCATION:NADI Felda Jengka 3\, NADI Felda Jengka 3
CATEGORIES:DEFAULT
END:VEVENT
BEGIN:VEVENT
DTSTART;TZID=UTC:20240917T100000
DTEND;TZID=UTC:20240917T120000
DTSTAMP:20260420T000130
CREATED:20240901T225831Z
LAST-MODIFIED:20240901T225831Z
UID:5834-1726567200-1726574400@feldajengka3.nadi.my
SUMMARY:Kelas Soft Skills
DESCRIPTION:Kelas Soft Skills \n– Kelas Resume \n– Kelas Grooming \n– Kelas Kemahiran Temuduga \n– Pengurusan Asas Kewangan
URL:https://feldajengka3.nadi.my/event/kelas-soft-skills-15/
LOCATION:NADI Felda Jengka 3\, NADI Felda Jengka 3
CATEGORIES:DEFAULT
END:VEVENT
BEGIN:VEVENT
DTSTART;TZID=UTC:20240916T100000
DTEND;TZID=UTC:20240916T170000
DTSTAMP:20260420T000130
CREATED:20240901T225712Z
LAST-MODIFIED:20240901T225712Z
UID:5829-1726480800-1726506000@feldajengka3.nadi.my
SUMMARY:Promosi NADI & Klik dengan Bijak
DESCRIPTION:Promosi – Hebahan Perkhidmatan\, Program\, Aktiviti\, Kelas/Latihan \nKDB – Terlebih Kongsi \nKDB – Pengantunan Dalam Talian Di kalangan Remaja \nKDB – Buli Siber dan Kawalan Kendiri \nKDB – Perlindungan Kanak-Kanak
URL:https://feldajengka3.nadi.my/event/promosi-nadi-klik-dengan-bijak-12/
LOCATION:NADI Felda Jengka 3\, NADI Felda Jengka 3
CATEGORIES:DEFAULT
END:VEVENT
BEGIN:VEVENT
DTSTART;TZID=UTC:20240915T100000
DTEND;TZID=UTC:20240915T120000
DTSTAMP:20260420T000130
CREATED:20240901T230720Z
LAST-MODIFIED:20240901T230720Z
UID:5854-1726394400-1726401600@feldajengka3.nadi.my
SUMMARY:e-Pembelajaran
DESCRIPTION:– E-learning (Word Search online\, Puzzle online\, Quizizz) \n· Kelas Komputer (Ms Word & Powerpoint) \n– Aplikasi Pembelajaran\, Permainan Pembelajaran  \n-Tutoriol\, Kuiz \n-e-sport Mobile Legend 
URL:https://feldajengka3.nadi.my/event/e-pembelajaran-7/
LOCATION:NADI Felda Jengka 3\, NADI Felda Jengka 3
CATEGORIES:DEFAULT
END:VEVENT
BEGIN:VEVENT
DTSTART;TZID=UTC:20240914T100000
DTEND;TZID=UTC:20240914T120000
DTSTAMP:20260420T000130
CREATED:20240901T230447Z
LAST-MODIFIED:20240901T230447Z
UID:5849-1726308000-1726315200@feldajengka3.nadi.my
SUMMARY:Kelas ICT & e-Sport
DESCRIPTION:– Kelas Komputer (Ms Word & Publisher) \n– Kelas ICT – pengenalan komputer & internet\n \n– e-Sport – Mobile Legend
URL:https://feldajengka3.nadi.my/event/kelas-ict-e-sport-2/
LOCATION:NADI Felda Jengka 3\, NADI Felda Jengka 3
CATEGORIES:DEFAULT
END:VEVENT
BEGIN:VEVENT
DTSTART;TZID=UTC:20240913T100000
DTEND;TZID=UTC:20240913T170000
DTSTAMP:20260420T000130
CREATED:20240901T230307Z
LAST-MODIFIED:20240901T230307Z
UID:5845-1726221600-1726246800@feldajengka3.nadi.my
SUMMARY:Promosi NADI & Klik dengan Bijak
DESCRIPTION:Promosi – Hebahan Perkhidmatan\, Program\, Aktiviti\, Kelas/Latihan \nKDB – Terlebih Kongsi Maklumat dan Phishing \nKDB – Dedah Membawa Padah \nKDB – Penyalahgunaan Media Sosial \nKDB – Sikap Terlebih Kongsi
URL:https://feldajengka3.nadi.my/event/promosi-nadi-klik-dengan-bijak-16/
LOCATION:NADI Felda Jengka 3\, NADI Felda Jengka 3
CATEGORIES:DEFAULT
END:VEVENT
BEGIN:VEVENT
DTSTART;TZID=UTC:20240912T100000
DTEND;TZID=UTC:20240912T120000
DTSTAMP:20260420T000130
CREATED:20240901T230200Z
LAST-MODIFIED:20240901T230200Z
UID:5841-1726135200-1726142400@feldajengka3.nadi.my
SUMMARY:Kelas Keusahawanan
DESCRIPTION:– Microsoft Office (word\, excel\, publisher\,p.point) \n– Kemahiran Keusahawanan & Sosial Media \n– Perniagaan & PemasaranSecara Online (shopee\, lazada) \n– Asas Media Baru (Instagram\, FB\, TwitterX\, Tiktok) \n– Perbankan Online
URL:https://feldajengka3.nadi.my/event/kelas-keusahawanan-131/
LOCATION:NADI Felda Jengka 3\, NADI Felda Jengka 3
CATEGORIES:DEFAULT
END:VEVENT
BEGIN:VEVENT
DTSTART;TZID=UTC:20240911T100000
DTEND;TZID=UTC:20240911T120000
DTSTAMP:20260420T000130
CREATED:20240901T230014Z
LAST-MODIFIED:20240901T230014Z
UID:5837-1726048800-1726056000@feldajengka3.nadi.my
SUMMARY:Kelas Komputer & ICT
DESCRIPTION:– Pengenalan kepada Komputer & Internet  \n– Microsoft Office (word\, excel\, publisher\, p.point)
URL:https://feldajengka3.nadi.my/event/kelas-komputer-ict-6/
LOCATION:NADI Felda Jengka 3\, NADI Felda Jengka 3
CATEGORIES:DEFAULT
END:VEVENT
END:VCALENDAR