BEGIN:VCALENDAR
VERSION:2.0
PRODID:-//NADI Felda Jengka 3 - ECPv6.15.13.1//NONSGML v1.0//EN
CALSCALE:GREGORIAN
METHOD:PUBLISH
X-WR-CALNAME:NADI Felda Jengka 3
X-ORIGINAL-URL:https://feldajengka3.nadi.my
X-WR-CALDESC:Events for NADI Felda Jengka 3
REFRESH-INTERVAL;VALUE=DURATION:PT1H
X-Robots-Tag:noindex
X-PUBLISHED-TTL:PT1H
BEGIN:VTIMEZONE
TZID:UTC
BEGIN:STANDARD
TZOFFSETFROM:+0000
TZOFFSETTO:+0000
TZNAME:UTC
DTSTART:20230101T000000
END:STANDARD
END:VTIMEZONE
BEGIN:VEVENT
DTSTART;TZID=UTC:20240630T100000
DTEND;TZID=UTC:20240630T120000
DTSTAMP:20260425T063055
CREATED:20240603T230600Z
LAST-MODIFIED:20240603T230600Z
UID:5768-1719741600-1719748800@feldajengka3.nadi.my
SUMMARY:Kelas E-Learning & Kelas Komputer
DESCRIPTION:· Promosi NADI \n– Klik dengan Bijak (Lindungi Kanak-kanak Dalam Talian) \n– E-learning (Word Search online\, Puzzle online\, Quizizz) \n· Kelas Komputer (Ms Word & Powerpoint)
URL:https://feldajengka3.nadi.my/event/kelas-e-learning-kelas-komputer-5/
LOCATION:NADI Felda Jengka 3\, NADI Felda Jengka 3
CATEGORIES:DEFAULT
END:VEVENT
BEGIN:VEVENT
DTSTART;TZID=UTC:20240629T100000
DTEND;TZID=UTC:20240629T120000
DTSTAMP:20260425T063055
CREATED:20240603T225617Z
LAST-MODIFIED:20240603T225617Z
UID:5763-1719655200-1719662400@feldajengka3.nadi.my
SUMMARY:Kelas STEM\, Kelas Komputer & e-Tuisyen
DESCRIPTION:– Promosi NADI \n– Klik dengan Bijak (Perlindungan Kanak-Kanak Di Internet)  \n– Kelas Komputer (Ms Word & Publisher) \n– e-Tuisyen Tahun 1\,2\,3\,4\,5 & 6 \n– Aktiviti STEM (Tayangan Video & Praktikal)
URL:https://feldajengka3.nadi.my/event/kelas-stem-kelas-komputer-e-tuisyen-4/
LOCATION:NADI Felda Jengka 3\, NADI Felda Jengka 3
CATEGORIES:DEFAULT
END:VEVENT
BEGIN:VEVENT
DTSTART;TZID=UTC:20240627T100000
DTEND;TZID=UTC:20240627T120000
DTSTAMP:20260425T063055
CREATED:20240603T230936Z
LAST-MODIFIED:20240603T230936Z
UID:5776-1719482400-1719489600@feldajengka3.nadi.my
SUMMARY:Kelas ICT
DESCRIPTION:· Promosi NADI \n· Klik Dengan Bijak (Maklumat Palsu) \n– Ms Office (Word & Publisher) \n– Ekerajaan\, Gmail\, FB dll
URL:https://feldajengka3.nadi.my/event/kelas-ict-4/
LOCATION:NADI Felda Jengka 3\, NADI Felda Jengka 3
CATEGORIES:DEFAULT
END:VEVENT
BEGIN:VEVENT
DTSTART;TZID=UTC:20240626T100000
DTEND;TZID=UTC:20240626T120000
DTSTAMP:20260425T063055
CREATED:20240603T225353Z
LAST-MODIFIED:20240603T225353Z
UID:5759-1719396000-1719403200@feldajengka3.nadi.my
SUMMARY:Kelas Keusahawanan
DESCRIPTION:· Promosi NADI \n· Latihan Keusahawanan (Perbankan Dalam Talian & Kedai Dalam Talian) \n· Klik dengan Bijak (Tabayyun – Tak Pasti\, Jangan Kongsi)
URL:https://feldajengka3.nadi.my/event/kelas-keusahawanan-124/
LOCATION:NADI Felda Jengka 3\, NADI Felda Jengka 3
CATEGORIES:DEFAULT
END:VEVENT
BEGIN:VEVENT
DTSTART;TZID=UTC:20240625T100000
DTEND;TZID=UTC:20240625T120000
DTSTAMP:20260425T063055
CREATED:20240603T230754Z
LAST-MODIFIED:20240603T230754Z
UID:5772-1719309600-1719316800@feldajengka3.nadi.my
SUMMARY:Kelas Soft Skills
DESCRIPTION:· Promosi NADI \n – Kelas Soft Skills (Resume – Microsoft Word @ Canva) \n– Klik dengan Bijak (Internet\, Dosa Pahala\, dan Kawalan Kendiri) 
URL:https://feldajengka3.nadi.my/event/kelas-soft-skills-4/
LOCATION:NADI Felda Jengka 3\, NADI Felda Jengka 3
CATEGORIES:DEFAULT
END:VEVENT
BEGIN:VEVENT
DTSTART;TZID=UTC:20240623T100000
DTEND;TZID=UTC:20240623T120000
DTSTAMP:20260425T063055
CREATED:20240603T230600Z
LAST-MODIFIED:20240603T230600Z
UID:5767-1719136800-1719144000@feldajengka3.nadi.my
SUMMARY:Kelas E-Learning & Kelas Komputer
DESCRIPTION:· Promosi NADI \n– Klik dengan Bijak (Lindungi Kanak-kanak Dalam Talian) \n– E-learning (Word Search online\, Puzzle online\, Quizizz) \n· Kelas Komputer (Ms Word & Powerpoint)
URL:https://feldajengka3.nadi.my/event/kelas-e-learning-kelas-komputer-4/
LOCATION:NADI Felda Jengka 3\, NADI Felda Jengka 3
CATEGORIES:DEFAULT
END:VEVENT
BEGIN:VEVENT
DTSTART;TZID=UTC:20240620T100000
DTEND;TZID=UTC:20240620T120000
DTSTAMP:20260425T063055
CREATED:20240603T230936Z
LAST-MODIFIED:20240603T230936Z
UID:5775-1718877600-1718884800@feldajengka3.nadi.my
SUMMARY:Kelas ICT
DESCRIPTION:· Promosi NADI \n· Klik Dengan Bijak (Maklumat Palsu) \n– Ms Office (Word & Publisher) \n– Ekerajaan\, Gmail\, FB dll
URL:https://feldajengka3.nadi.my/event/kelas-ict-3/
LOCATION:NADI Felda Jengka 3\, NADI Felda Jengka 3
CATEGORIES:DEFAULT
END:VEVENT
BEGIN:VEVENT
DTSTART;TZID=UTC:20240619T100000
DTEND;TZID=UTC:20240619T120000
DTSTAMP:20260425T063055
CREATED:20240603T225353Z
LAST-MODIFIED:20240603T225353Z
UID:5758-1718791200-1718798400@feldajengka3.nadi.my
SUMMARY:Kelas Keusahawanan
DESCRIPTION:· Promosi NADI \n· Latihan Keusahawanan (Perbankan Dalam Talian & Kedai Dalam Talian) \n· Klik dengan Bijak (Tabayyun – Tak Pasti\, Jangan Kongsi)
URL:https://feldajengka3.nadi.my/event/kelas-keusahawanan-123/
LOCATION:NADI Felda Jengka 3\, NADI Felda Jengka 3
CATEGORIES:DEFAULT
END:VEVENT
BEGIN:VEVENT
DTSTART;TZID=UTC:20240618T100000
DTEND;TZID=UTC:20240618T120000
DTSTAMP:20260425T063055
CREATED:20240603T230754Z
LAST-MODIFIED:20240603T230754Z
UID:5771-1718704800-1718712000@feldajengka3.nadi.my
SUMMARY:Kelas Soft Skills
DESCRIPTION:· Promosi NADI \n – Kelas Soft Skills (Resume – Microsoft Word @ Canva) \n– Klik dengan Bijak (Internet\, Dosa Pahala\, dan Kawalan Kendiri) 
URL:https://feldajengka3.nadi.my/event/kelas-soft-skills-3/
LOCATION:NADI Felda Jengka 3\, NADI Felda Jengka 3
CATEGORIES:DEFAULT
END:VEVENT
BEGIN:VEVENT
DTSTART;TZID=UTC:20240616T100000
DTEND;TZID=UTC:20240616T120000
DTSTAMP:20260425T063055
CREATED:20240603T230600Z
LAST-MODIFIED:20240603T230600Z
UID:5766-1718532000-1718539200@feldajengka3.nadi.my
SUMMARY:Kelas E-Learning & Kelas Komputer
DESCRIPTION:· Promosi NADI \n– Klik dengan Bijak (Lindungi Kanak-kanak Dalam Talian) \n– E-learning (Word Search online\, Puzzle online\, Quizizz) \n· Kelas Komputer (Ms Word & Powerpoint)
URL:https://feldajengka3.nadi.my/event/kelas-e-learning-kelas-komputer-3/
LOCATION:NADI Felda Jengka 3\, NADI Felda Jengka 3
CATEGORIES:DEFAULT
END:VEVENT
BEGIN:VEVENT
DTSTART;TZID=UTC:20240615T100000
DTEND;TZID=UTC:20240615T120000
DTSTAMP:20260425T063055
CREATED:20240603T225617Z
LAST-MODIFIED:20240603T225617Z
UID:5762-1718445600-1718452800@feldajengka3.nadi.my
SUMMARY:Kelas STEM\, Kelas Komputer & e-Tuisyen
DESCRIPTION:– Promosi NADI \n– Klik dengan Bijak (Perlindungan Kanak-Kanak Di Internet)  \n– Kelas Komputer (Ms Word & Publisher) \n– e-Tuisyen Tahun 1\,2\,3\,4\,5 & 6 \n– Aktiviti STEM (Tayangan Video & Praktikal)
URL:https://feldajengka3.nadi.my/event/kelas-stem-kelas-komputer-e-tuisyen-3/
LOCATION:NADI Felda Jengka 3\, NADI Felda Jengka 3
CATEGORIES:DEFAULT
END:VEVENT
BEGIN:VEVENT
DTSTART;TZID=UTC:20240613T100000
DTEND;TZID=UTC:20240613T120000
DTSTAMP:20260425T063055
CREATED:20240603T230936Z
LAST-MODIFIED:20240603T230936Z
UID:5774-1718272800-1718280000@feldajengka3.nadi.my
SUMMARY:Kelas ICT
DESCRIPTION:· Promosi NADI \n· Klik Dengan Bijak (Maklumat Palsu) \n– Ms Office (Word & Publisher) \n– Ekerajaan\, Gmail\, FB dll
URL:https://feldajengka3.nadi.my/event/kelas-ict-2/
LOCATION:NADI Felda Jengka 3\, NADI Felda Jengka 3
CATEGORIES:DEFAULT
END:VEVENT
BEGIN:VEVENT
DTSTART;TZID=UTC:20240612T100000
DTEND;TZID=UTC:20240612T120000
DTSTAMP:20260425T063055
CREATED:20240603T225353Z
LAST-MODIFIED:20240603T225353Z
UID:5757-1718186400-1718193600@feldajengka3.nadi.my
SUMMARY:Kelas Keusahawanan
DESCRIPTION:· Promosi NADI \n· Latihan Keusahawanan (Perbankan Dalam Talian & Kedai Dalam Talian) \n· Klik dengan Bijak (Tabayyun – Tak Pasti\, Jangan Kongsi)
URL:https://feldajengka3.nadi.my/event/kelas-keusahawanan-122/
LOCATION:NADI Felda Jengka 3\, NADI Felda Jengka 3
CATEGORIES:DEFAULT
END:VEVENT
BEGIN:VEVENT
DTSTART;TZID=UTC:20240611T100000
DTEND;TZID=UTC:20240611T120000
DTSTAMP:20260425T063055
CREATED:20240603T230754Z
LAST-MODIFIED:20240603T230754Z
UID:5770-1718100000-1718107200@feldajengka3.nadi.my
SUMMARY:Kelas Soft Skills
DESCRIPTION:· Promosi NADI \n – Kelas Soft Skills (Resume – Microsoft Word @ Canva) \n– Klik dengan Bijak (Internet\, Dosa Pahala\, dan Kawalan Kendiri) 
URL:https://feldajengka3.nadi.my/event/kelas-soft-skills-2/
LOCATION:NADI Felda Jengka 3\, NADI Felda Jengka 3
CATEGORIES:DEFAULT
END:VEVENT
BEGIN:VEVENT
DTSTART;TZID=UTC:20240609T100000
DTEND;TZID=UTC:20240609T120000
DTSTAMP:20260425T063055
CREATED:20240603T230600Z
LAST-MODIFIED:20240603T230600Z
UID:5765-1717927200-1717934400@feldajengka3.nadi.my
SUMMARY:Kelas E-Learning & Kelas Komputer
DESCRIPTION:· Promosi NADI \n– Klik dengan Bijak (Lindungi Kanak-kanak Dalam Talian) \n– E-learning (Word Search online\, Puzzle online\, Quizizz) \n· Kelas Komputer (Ms Word & Powerpoint)
URL:https://feldajengka3.nadi.my/event/kelas-e-learning-kelas-komputer-2/
LOCATION:NADI Felda Jengka 3\, NADI Felda Jengka 3
CATEGORIES:DEFAULT
END:VEVENT
BEGIN:VEVENT
DTSTART;TZID=UTC:20240608T100000
DTEND;TZID=UTC:20240608T120000
DTSTAMP:20260425T063055
CREATED:20240603T225617Z
LAST-MODIFIED:20240603T225617Z
UID:5761-1717840800-1717848000@feldajengka3.nadi.my
SUMMARY:Kelas STEM\, Kelas Komputer & e-Tuisyen
DESCRIPTION:– Promosi NADI \n– Klik dengan Bijak (Perlindungan Kanak-Kanak Di Internet)  \n– Kelas Komputer (Ms Word & Publisher) \n– e-Tuisyen Tahun 1\,2\,3\,4\,5 & 6 \n– Aktiviti STEM (Tayangan Video & Praktikal)
URL:https://feldajengka3.nadi.my/event/kelas-stem-kelas-komputer-e-tuisyen-2/
LOCATION:NADI Felda Jengka 3\, NADI Felda Jengka 3
CATEGORIES:DEFAULT
END:VEVENT
BEGIN:VEVENT
DTSTART;TZID=UTC:20240606T100000
DTEND;TZID=UTC:20240606T120000
DTSTAMP:20260425T063055
CREATED:20240603T230936Z
LAST-MODIFIED:20240603T230936Z
UID:5773-1717668000-1717675200@feldajengka3.nadi.my
SUMMARY:Kelas ICT
DESCRIPTION:· Promosi NADI \n· Klik Dengan Bijak (Maklumat Palsu) \n– Ms Office (Word & Publisher) \n– Ekerajaan\, Gmail\, FB dll
URL:https://feldajengka3.nadi.my/event/kelas-ict/
LOCATION:NADI Felda Jengka 3\, NADI Felda Jengka 3
CATEGORIES:DEFAULT
END:VEVENT
BEGIN:VEVENT
DTSTART;TZID=UTC:20240605T100000
DTEND;TZID=UTC:20240605T120000
DTSTAMP:20260425T063055
CREATED:20240603T225353Z
LAST-MODIFIED:20240603T225353Z
UID:5756-1717581600-1717588800@feldajengka3.nadi.my
SUMMARY:Kelas Keusahawanan
DESCRIPTION:· Promosi NADI \n· Latihan Keusahawanan (Perbankan Dalam Talian & Kedai Dalam Talian) \n· Klik dengan Bijak (Tabayyun – Tak Pasti\, Jangan Kongsi)
URL:https://feldajengka3.nadi.my/event/kelas-keusahawanan-121/
LOCATION:NADI Felda Jengka 3\, NADI Felda Jengka 3
CATEGORIES:DEFAULT
END:VEVENT
BEGIN:VEVENT
DTSTART;TZID=UTC:20240604T100000
DTEND;TZID=UTC:20240604T120000
DTSTAMP:20260425T063055
CREATED:20240603T230754Z
LAST-MODIFIED:20240603T230754Z
UID:5769-1717495200-1717502400@feldajengka3.nadi.my
SUMMARY:Kelas Soft Skills
DESCRIPTION:· Promosi NADI \n – Kelas Soft Skills (Resume – Microsoft Word @ Canva) \n– Klik dengan Bijak (Internet\, Dosa Pahala\, dan Kawalan Kendiri) 
URL:https://feldajengka3.nadi.my/event/kelas-soft-skills/
LOCATION:NADI Felda Jengka 3\, NADI Felda Jengka 3
CATEGORIES:DEFAULT
END:VEVENT
BEGIN:VEVENT
DTSTART;TZID=UTC:20240602T100000
DTEND;TZID=UTC:20240602T120000
DTSTAMP:20260425T063055
CREATED:20240603T230600Z
LAST-MODIFIED:20240603T230600Z
UID:5764-1717322400-1717329600@feldajengka3.nadi.my
SUMMARY:Kelas E-Learning & Kelas Komputer
DESCRIPTION:· Promosi NADI \n– Klik dengan Bijak (Lindungi Kanak-kanak Dalam Talian) \n– E-learning (Word Search online\, Puzzle online\, Quizizz) \n· Kelas Komputer (Ms Word & Powerpoint)
URL:https://feldajengka3.nadi.my/event/kelas-e-learning-kelas-komputer/
LOCATION:NADI Felda Jengka 3\, NADI Felda Jengka 3
CATEGORIES:DEFAULT
END:VEVENT
BEGIN:VEVENT
DTSTART;TZID=UTC:20240601T100000
DTEND;TZID=UTC:20240601T120000
DTSTAMP:20260425T063055
CREATED:20240603T225617Z
LAST-MODIFIED:20240603T225617Z
UID:5760-1717236000-1717243200@feldajengka3.nadi.my
SUMMARY:Kelas STEM\, Kelas Komputer & e-Tuisyen
DESCRIPTION:– Promosi NADI \n– Klik dengan Bijak (Perlindungan Kanak-Kanak Di Internet)  \n– Kelas Komputer (Ms Word & Publisher) \n– e-Tuisyen Tahun 1\,2\,3\,4\,5 & 6 \n– Aktiviti STEM (Tayangan Video & Praktikal)
URL:https://feldajengka3.nadi.my/event/kelas-stem-kelas-komputer-e-tuisyen/
LOCATION:NADI Felda Jengka 3\, NADI Felda Jengka 3
CATEGORIES:DEFAULT
END:VEVENT
BEGIN:VEVENT
DTSTART;TZID=UTC:20240531T100000
DTEND;TZID=UTC:20240531T120000
DTSTAMP:20260425T063055
CREATED:20240502T230110Z
LAST-MODIFIED:20240502T230110Z
UID:5743-1717149600-1717156800@feldajengka3.nadi.my
SUMMARY:Kelas ICT - Kategori 18 tahun ke atas
DESCRIPTION:–  Promosi NADI \n– Klik dengan Bijak (Penipuan dalam Talian) \n– Latihan Keusahawanan- Perniagaan Secara Online (Shopee)
URL:https://feldajengka3.nadi.my/event/kelas-ict-kategori-18-tahun-ke-atas-305/
LOCATION:NADI Felda Jengka 3\, NADI Felda Jengka 3
CATEGORIES:DEFAULT
END:VEVENT
BEGIN:VEVENT
DTSTART;TZID=UTC:20240529T100000
DTEND;TZID=UTC:20240529T120000
DTSTAMP:20260425T063055
CREATED:20240502T225459Z
LAST-MODIFIED:20240502T225459Z
UID:5738-1716976800-1716984000@feldajengka3.nadi.my
SUMMARY:Kelas ICT Kategori Usahawan
DESCRIPTION:· Promosi NADI \n· Klik dengan Bijak (Maklumat Palsu) \n· Latihan Keusahawanan (Perniagaan Dalam Talian)
URL:https://feldajengka3.nadi.my/event/kelas-ict-kategori-usahawan-249/
LOCATION:NADI Felda Jengka 3\, NADI Felda Jengka 3
CATEGORIES:DEFAULT
END:VEVENT
BEGIN:VEVENT
DTSTART;TZID=UTC:20240528T100000
DTEND;TZID=UTC:20240528T120000
DTSTAMP:20260425T063055
CREATED:20240502T232048Z
LAST-MODIFIED:20240502T232048Z
UID:5755-1716890400-1716897600@feldajengka3.nadi.my
SUMMARY:Kelas ICT - Kategori 18 tahun ke atas
DESCRIPTION:· Promosi NADI \n – Klik dengan Bijak (Keselamatan Negara Tanggungjawab Bersama)  \n· Latihan Keusahawanan (Pemasaran Dalam Talian)
URL:https://feldajengka3.nadi.my/event/kelas-ict-kategori-18-tahun-ke-atas-309/
LOCATION:NADI Felda Jengka 3\, NADI Felda Jengka 3
CATEGORIES:DEFAULT
END:VEVENT
BEGIN:VEVENT
DTSTART;TZID=UTC:20240526T100000
DTEND;TZID=UTC:20240526T120000
DTSTAMP:20260425T063055
CREATED:20240502T231309Z
LAST-MODIFIED:20240502T231309Z
UID:5751-1716717600-1716724800@feldajengka3.nadi.my
SUMMARY:Kelas ICT - Kategori SMK
DESCRIPTION:· Promosi NADI \n– Klik dengan Bijak (KETAGIH GAJET POSITIF ATAU NEGATIF) \n– E-learning (Quizizz) \n· Kelas Komputer (Ms Word & Publisher) \n–Aktiviti STEM (Tayangan Video & Praktikal)
URL:https://feldajengka3.nadi.my/event/kelas-ict-kategori-smk-191/
LOCATION:NADI Felda Jengka 3\, NADI Felda Jengka 3
CATEGORIES:DEFAULT
END:VEVENT
BEGIN:VEVENT
DTSTART;TZID=UTC:20240525T100000
DTEND;TZID=UTC:20240525T120000
DTSTAMP:20260425T063055
CREATED:20240502T231119Z
LAST-MODIFIED:20240502T231119Z
UID:5747-1716631200-1716638400@feldajengka3.nadi.my
SUMMARY:Kelas ICT - Kategori SK
DESCRIPTION:– Promosi NADI \n– Klik dengan Bijak (Keselamatan Internet)  \n– Kelas Komputer (Ms Word & Powerpoint) \n– e-Tuisyen Tahun 1\,2\,3\,4\,5 & 6 \n– Aktiviti STEM (Tayangan Video & Praktikal) \n· E-Learning (Quizizz\, tutor.com dll)
URL:https://feldajengka3.nadi.my/event/kelas-ict-kategori-sk-185/
LOCATION:NADI Felda Jengka 3\, NADI Felda Jengka 3
CATEGORIES:DEFAULT
END:VEVENT
BEGIN:VEVENT
DTSTART;TZID=UTC:20240524T100000
DTEND;TZID=UTC:20240524T120000
DTSTAMP:20260425T063055
CREATED:20240502T230110Z
LAST-MODIFIED:20240502T230110Z
UID:5742-1716544800-1716552000@feldajengka3.nadi.my
SUMMARY:Kelas ICT - Kategori 18 tahun ke atas
DESCRIPTION:–  Promosi NADI \n– Klik dengan Bijak (Penipuan dalam Talian) \n– Latihan Keusahawanan- Perniagaan Secara Online (Shopee)
URL:https://feldajengka3.nadi.my/event/kelas-ict-kategori-18-tahun-ke-atas-304/
LOCATION:NADI Felda Jengka 3\, NADI Felda Jengka 3
CATEGORIES:DEFAULT
END:VEVENT
BEGIN:VEVENT
DTSTART;TZID=UTC:20240522T100000
DTEND;TZID=UTC:20240522T120000
DTSTAMP:20260425T063055
CREATED:20240502T225459Z
LAST-MODIFIED:20240502T225459Z
UID:5737-1716372000-1716379200@feldajengka3.nadi.my
SUMMARY:Kelas ICT Kategori Usahawan
DESCRIPTION:· Promosi NADI \n· Klik dengan Bijak (Maklumat Palsu) \n· Latihan Keusahawanan (Perniagaan Dalam Talian)
URL:https://feldajengka3.nadi.my/event/kelas-ict-kategori-usahawan-248/
LOCATION:NADI Felda Jengka 3\, NADI Felda Jengka 3
CATEGORIES:DEFAULT
END:VEVENT
BEGIN:VEVENT
DTSTART;TZID=UTC:20240521T100000
DTEND;TZID=UTC:20240521T120000
DTSTAMP:20260425T063055
CREATED:20240502T232048Z
LAST-MODIFIED:20240502T232048Z
UID:5754-1716285600-1716292800@feldajengka3.nadi.my
SUMMARY:Kelas ICT - Kategori 18 tahun ke atas
DESCRIPTION:· Promosi NADI \n – Klik dengan Bijak (Keselamatan Negara Tanggungjawab Bersama)  \n· Latihan Keusahawanan (Pemasaran Dalam Talian)
URL:https://feldajengka3.nadi.my/event/kelas-ict-kategori-18-tahun-ke-atas-308/
LOCATION:NADI Felda Jengka 3\, NADI Felda Jengka 3
CATEGORIES:DEFAULT
END:VEVENT
BEGIN:VEVENT
DTSTART;TZID=UTC:20240519T100000
DTEND;TZID=UTC:20240519T120000
DTSTAMP:20260425T063055
CREATED:20240502T231309Z
LAST-MODIFIED:20240502T231309Z
UID:5750-1716112800-1716120000@feldajengka3.nadi.my
SUMMARY:Kelas ICT - Kategori SMK
DESCRIPTION:· Promosi NADI \n– Klik dengan Bijak (KETAGIH GAJET POSITIF ATAU NEGATIF) \n– E-learning (Quizizz) \n· Kelas Komputer (Ms Word & Publisher) \n–Aktiviti STEM (Tayangan Video & Praktikal)
URL:https://feldajengka3.nadi.my/event/kelas-ict-kategori-smk-190/
LOCATION:NADI Felda Jengka 3\, NADI Felda Jengka 3
CATEGORIES:DEFAULT
END:VEVENT
END:VCALENDAR