BEGIN:VCALENDAR
VERSION:2.0
PRODID:-//NADI Felda Jengka 3 - ECPv6.15.13.1//NONSGML v1.0//EN
CALSCALE:GREGORIAN
METHOD:PUBLISH
X-WR-CALNAME:NADI Felda Jengka 3
X-ORIGINAL-URL:https://feldajengka3.nadi.my
X-WR-CALDESC:Events for NADI Felda Jengka 3
REFRESH-INTERVAL;VALUE=DURATION:PT1H
X-Robots-Tag:noindex
X-PUBLISHED-TTL:PT1H
BEGIN:VTIMEZONE
TZID:UTC
BEGIN:STANDARD
TZOFFSETFROM:+0000
TZOFFSETTO:+0000
TZNAME:UTC
DTSTART:20240101T000000
END:STANDARD
END:VTIMEZONE
BEGIN:VEVENT
DTSTART;TZID=UTC:20250208T100000
DTEND;TZID=UTC:20250208T120000
DTSTAMP:20260420T221105
CREATED:20250103T194226Z
LAST-MODIFIED:20250307T040428Z
UID:6011-1739008800-1739016000@feldajengka3.nadi.my
SUMMARY:Latihan Pelajar SK & Belia
DESCRIPTION:– NADI X PEMBELAJARAN SEPANJANG HAYAT (MAHIR BAIKI GAJET) \n– Kelas Tiny-techies \n– Kelas ICT (pengenalan komputer & internet)
URL:https://feldajengka3.nadi.my/event/latihan-pelajar-sk/
END:VEVENT
END:VCALENDAR