BEGIN:VCALENDAR
VERSION:2.0
PRODID:-//NADI Felda Jengka 3 - ECPv6.15.13.1//NONSGML v1.0//EN
CALSCALE:GREGORIAN
METHOD:PUBLISH
X-WR-CALNAME:NADI Felda Jengka 3
X-ORIGINAL-URL:https://feldajengka3.nadi.my
X-WR-CALDESC:Events for NADI Felda Jengka 3
REFRESH-INTERVAL;VALUE=DURATION:PT1H
X-Robots-Tag:noindex
X-PUBLISHED-TTL:PT1H
BEGIN:VTIMEZONE
TZID:UTC
BEGIN:STANDARD
TZOFFSETFROM:+0000
TZOFFSETTO:+0000
TZNAME:UTC
DTSTART:20230101T000000
END:STANDARD
END:VTIMEZONE
BEGIN:VEVENT
DTSTART;TZID=UTC:20241027T100000
DTEND;TZID=UTC:20241027T120000
DTSTAMP:20260421T140304
CREATED:20240930T202040Z
LAST-MODIFIED:20240930T202040Z
UID:5886-1730023200-1730030400@feldajengka3.nadi.my
SUMMARY:e-Pembelajaran
DESCRIPTION:– E-learning (Word Search online\, Puzzle online\, Quizizz) \n· Kelas Komputer (Ms Word & Publisher) \n– Aplikasi Pembelajaran\, Permainan Pembelajaran  \n-Tutoriol\, Kuiz \n-e-sport Mobile Legend 
URL:https://feldajengka3.nadi.my/event/e-pembelajaran-13/
LOCATION:NADI Felda Jengka 3\, NADI Felda Jengka 3
CATEGORIES:DEFAULT
END:VEVENT
END:VCALENDAR