BEGIN:VCALENDAR
VERSION:2.0
PRODID:-//NADI Felda Jengka 3 - ECPv6.15.13.1//NONSGML v1.0//EN
CALSCALE:GREGORIAN
METHOD:PUBLISH
X-WR-CALNAME:NADI Felda Jengka 3
X-ORIGINAL-URL:https://feldajengka3.nadi.my
X-WR-CALDESC:Events for NADI Felda Jengka 3
REFRESH-INTERVAL;VALUE=DURATION:PT1H
X-Robots-Tag:noindex
X-PUBLISHED-TTL:PT1H
BEGIN:VTIMEZONE
TZID:UTC
BEGIN:STANDARD
TZOFFSETFROM:+0000
TZOFFSETTO:+0000
TZNAME:UTC
DTSTART:20230101T000000
END:STANDARD
END:VTIMEZONE
BEGIN:VEVENT
DTSTART;TZID=UTC:20241017T100000
DTEND;TZID=UTC:20241017T120000
DTSTAMP:20260421T140354
CREATED:20240930T201657Z
LAST-MODIFIED:20240930T201657Z
UID:5873-1729159200-1729166400@feldajengka3.nadi.my
SUMMARY:Kelas Keusahawanan
DESCRIPTION:– Microsoft Office (word\, excel\, publisher\,p.point) \n– Kemahiran Keusahawanan & Media Sosial \n– Perniagaan & PemasaranSecara Online (shopee\, lazada) \n– Asas Media Baru (Instagram\, FB\, TwitterX\, Tiktok) \n– Perbankan Online
URL:https://feldajengka3.nadi.my/event/kelas-keusahawanan-136/
LOCATION:NADI Felda Jengka 3\, NADI Felda Jengka 3
CATEGORIES:DEFAULT
END:VEVENT
END:VCALENDAR