BEGIN:VCALENDAR
VERSION:2.0
PRODID:-//NADI Felda Jengka 3 - ECPv6.15.13.1//NONSGML v1.0//EN
CALSCALE:GREGORIAN
METHOD:PUBLISH
X-WR-CALNAME:NADI Felda Jengka 3
X-ORIGINAL-URL:https://feldajengka3.nadi.my
X-WR-CALDESC:Events for NADI Felda Jengka 3
REFRESH-INTERVAL;VALUE=DURATION:PT1H
X-Robots-Tag:noindex
X-PUBLISHED-TTL:PT1H
BEGIN:VTIMEZONE
TZID:UTC
BEGIN:STANDARD
TZOFFSETFROM:+0000
TZOFFSETTO:+0000
TZNAME:UTC
DTSTART:20230101T000000
END:STANDARD
END:VTIMEZONE
BEGIN:VEVENT
DTSTART;TZID=UTC:20240916T100000
DTEND;TZID=UTC:20240916T170000
DTSTAMP:20260422T094716
CREATED:20240901T225712Z
LAST-MODIFIED:20240901T225712Z
UID:5829-1726480800-1726506000@feldajengka3.nadi.my
SUMMARY:Promosi NADI & Klik dengan Bijak
DESCRIPTION:Promosi – Hebahan Perkhidmatan\, Program\, Aktiviti\, Kelas/Latihan \nKDB – Terlebih Kongsi \nKDB – Pengantunan Dalam Talian Di kalangan Remaja \nKDB – Buli Siber dan Kawalan Kendiri \nKDB – Perlindungan Kanak-Kanak
URL:https://feldajengka3.nadi.my/event/promosi-nadi-klik-dengan-bijak-12/
LOCATION:NADI Felda Jengka 3\, NADI Felda Jengka 3
CATEGORIES:DEFAULT
END:VEVENT
END:VCALENDAR