BEGIN:VCALENDAR
VERSION:2.0
PRODID:-//NADI Felda Jengka 3 - ECPv6.15.13.1//NONSGML v1.0//EN
CALSCALE:GREGORIAN
METHOD:PUBLISH
X-WR-CALNAME:NADI Felda Jengka 3
X-ORIGINAL-URL:https://feldajengka3.nadi.my
X-WR-CALDESC:Events for NADI Felda Jengka 3
REFRESH-INTERVAL;VALUE=DURATION:PT1H
X-Robots-Tag:noindex
X-PUBLISHED-TTL:PT1H
BEGIN:VTIMEZONE
TZID:UTC
BEGIN:STANDARD
TZOFFSETFROM:+0000
TZOFFSETTO:+0000
TZNAME:UTC
DTSTART:20230101T000000
END:STANDARD
END:VTIMEZONE
BEGIN:VEVENT
DTSTART;TZID=UTC:20240908T100000
DTEND;TZID=UTC:20240908T120000
DTSTAMP:20260422T083818
CREATED:20240901T230720Z
LAST-MODIFIED:20240901T230720Z
UID:5853-1725789600-1725796800@feldajengka3.nadi.my
SUMMARY:e-Pembelajaran
DESCRIPTION:– E-learning (Word Search online\, Puzzle online\, Quizizz) \n· Kelas Komputer (Ms Word & Powerpoint) \n– Aplikasi Pembelajaran\, Permainan Pembelajaran  \n-Tutoriol\, Kuiz \n-e-sport Mobile Legend 
URL:https://feldajengka3.nadi.my/event/e-pembelajaran-6/
LOCATION:NADI Felda Jengka 3\, NADI Felda Jengka 3
CATEGORIES:DEFAULT
END:VEVENT
END:VCALENDAR