BEGIN:VCALENDAR
VERSION:2.0
PRODID:-//NADI Felda Jengka 3 - ECPv6.15.13.1//NONSGML v1.0//EN
CALSCALE:GREGORIAN
METHOD:PUBLISH
X-WR-CALNAME:NADI Felda Jengka 3
X-ORIGINAL-URL:https://feldajengka3.nadi.my
X-WR-CALDESC:Events for NADI Felda Jengka 3
REFRESH-INTERVAL;VALUE=DURATION:PT1H
X-Robots-Tag:noindex
X-PUBLISHED-TTL:PT1H
BEGIN:VTIMEZONE
TZID:UTC
BEGIN:STANDARD
TZOFFSETFROM:+0000
TZOFFSETTO:+0000
TZNAME:UTC
DTSTART:20230101T000000
END:STANDARD
END:VTIMEZONE
BEGIN:VEVENT
DTSTART;TZID=UTC:20240707T100000
DTEND;TZID=UTC:20240707T120000
DTSTAMP:20260423T014052
CREATED:20240630T201208Z
LAST-MODIFIED:20240630T201208Z
UID:5789-1720346400-1720353600@feldajengka3.nadi.my
SUMMARY:Kelas E-Learning & Kelas Komputer
DESCRIPTION:– E-learning (Word Search online\, Puzzle online\, Quizizz) \n– Klik dengan Bijak (Pengantunan Dalam Talian) \n· Kelas Komputer (Ms Word & Publisher) \n– e-Tuisyen
URL:https://feldajengka3.nadi.my/event/kelas-e-learning-kelas-komputer-6/
LOCATION:NADI Felda Jengka 3\, NADI Felda Jengka 3
CATEGORIES:DEFAULT
END:VEVENT
END:VCALENDAR