BEGIN:VCALENDAR
VERSION:2.0
PRODID:-//NADI Felda Jengka 3 - ECPv6.15.13.1//NONSGML v1.0//EN
CALSCALE:GREGORIAN
METHOD:PUBLISH
X-WR-CALNAME:NADI Felda Jengka 3
X-ORIGINAL-URL:https://feldajengka3.nadi.my
X-WR-CALDESC:Events for NADI Felda Jengka 3
REFRESH-INTERVAL;VALUE=DURATION:PT1H
X-Robots-Tag:noindex
X-PUBLISHED-TTL:PT1H
BEGIN:VTIMEZONE
TZID:UTC
BEGIN:STANDARD
TZOFFSETFROM:+0000
TZOFFSETTO:+0000
TZNAME:UTC
DTSTART:20230101T000000
END:STANDARD
END:VTIMEZONE
BEGIN:VEVENT
DTSTART;TZID=UTC:20240323T100000
DTEND;TZID=UTC:20240323T120000
DTSTAMP:20260425T200528
CREATED:20240229T194026Z
LAST-MODIFIED:20240229T194026Z
UID:5693-1711188000-1711195200@feldajengka3.nadi.my
SUMMARY:Kelas ICT - Kategori SK
DESCRIPTION:– Promosi PEDi \n– Klik dengan Bijak (Semak Sebelum Sebar)  \n– Kelas Komputer (Ms Word & Powerpoint) \n– e-Tuisyen Tahun 1\,2\,3\,4\,5 & 6 \n– Aktiviti STEM (Tayangan Video & Praktikal) \n· E-Learning (Quizizz\, tutor.com dll) \n– Program Cuti Sekolah
URL:https://feldajengka3.nadi.my/event/kelas-ict-kategori-sk-176/
LOCATION:PEDi Felda Jengka 3\, PEDi Felda Jengka 3
CATEGORIES:DEFAULT
END:VEVENT
END:VCALENDAR