BEGIN:VCALENDAR
VERSION:2.0
PRODID:-//NADI Felda Jengka 3 - ECPv6.15.13.1//NONSGML v1.0//EN
CALSCALE:GREGORIAN
METHOD:PUBLISH
X-WR-CALNAME:NADI Felda Jengka 3
X-ORIGINAL-URL:https://feldajengka3.nadi.my
X-WR-CALDESC:Events for NADI Felda Jengka 3
REFRESH-INTERVAL;VALUE=DURATION:PT1H
X-Robots-Tag:noindex
X-PUBLISHED-TTL:PT1H
BEGIN:VTIMEZONE
TZID:UTC
BEGIN:STANDARD
TZOFFSETFROM:+0000
TZOFFSETTO:+0000
TZNAME:UTC
DTSTART:20230101T000000
END:STANDARD
END:VTIMEZONE
BEGIN:VEVENT
DTSTART;TZID=UTC:20240225T100000
DTEND;TZID=UTC:20240225T120000
DTSTAMP:20260425T195702
CREATED:20240202T225659Z
LAST-MODIFIED:20240202T225659Z
UID:5677-1708855200-1708862400@feldajengka3.nadi.my
SUMMARY:Kelas ICT - Kategori SMK
DESCRIPTION:· Promosi PEDi \n– Klik dengan Bijak (KETAGIH GAJET POSITIF ATAU NEGATIF) \n– E-learning (Quizizz) \n· Kelas Komputer (Ms Word & Powerpoint) \n– e-Tuisyen Tahun 1\,2 & 3 \n–Aktiviti STEM (Tayangan Video & Praktikal) \n– Program Cuti Sekolah
URL:https://feldajengka3.nadi.my/event/kelas-ict-kategori-smk-178/
LOCATION:PEDi Felda Jengka 3\, PEDi Felda Jengka 3
CATEGORIES:DEFAULT
END:VEVENT
END:VCALENDAR